BEGIN:VCALENDAR
VERSION:2.0
PRODID:-//PALLAVI GUNALAN - ECPv6.15.17//NONSGML v1.0//EN
CALSCALE:GREGORIAN
METHOD:PUBLISH
X-WR-CALNAME:PALLAVI GUNALAN
X-ORIGINAL-URL:https://www.pallavigunalan.com
X-WR-CALDESC:Events for PALLAVI GUNALAN
REFRESH-INTERVAL;VALUE=DURATION:PT1H
X-Robots-Tag:noindex
X-PUBLISHED-TTL:PT1H
BEGIN:VTIMEZONE
TZID:America/Los_Angeles
BEGIN:DAYLIGHT
TZOFFSETFROM:-0800
TZOFFSETTO:-0700
TZNAME:PDT
DTSTART:20220313T100000
END:DAYLIGHT
BEGIN:STANDARD
TZOFFSETFROM:-0700
TZOFFSETTO:-0800
TZNAME:PST
DTSTART:20221106T090000
END:STANDARD
BEGIN:DAYLIGHT
TZOFFSETFROM:-0800
TZOFFSETTO:-0700
TZNAME:PDT
DTSTART:20230312T100000
END:DAYLIGHT
BEGIN:STANDARD
TZOFFSETFROM:-0700
TZOFFSETTO:-0800
TZNAME:PST
DTSTART:20231105T090000
END:STANDARD
BEGIN:DAYLIGHT
TZOFFSETFROM:-0800
TZOFFSETTO:-0700
TZNAME:PDT
DTSTART:20240310T100000
END:DAYLIGHT
BEGIN:STANDARD
TZOFFSETFROM:-0700
TZOFFSETTO:-0800
TZNAME:PST
DTSTART:20241103T090000
END:STANDARD
END:VTIMEZONE
BEGIN:VEVENT
DTSTART;TZID=America/Los_Angeles:20230102T200000
DTEND;TZID=America/Los_Angeles:20230102T213000
DTSTAMP:20260426T022301
CREATED:20221227T083559Z
LAST-MODIFIED:20221227T083559Z
UID:4684-1672689600-1672695000@www.pallavigunalan.com
SUMMARY:LA: Flappers
DESCRIPTION:
URL:https://www.pallavigunalan.com/event/la-flappers-4/
LOCATION:Flappers Comedy Club\, 102 E Magnolia Blvd\, Burbank\, CA\, 91502\, United States
END:VEVENT
BEGIN:VEVENT
DTSTART;TZID=America/Los_Angeles:20230114T120000
DTEND;TZID=America/Los_Angeles:20230114T130000
DTSTAMP:20260426T022301
CREATED:20230115T214423Z
LAST-MODIFIED:20230115T214423Z
UID:4701-1673697600-1673701200@www.pallavigunalan.com
SUMMARY:LA: Opening for Maria Bamford
DESCRIPTION:
URL:https://www.pallavigunalan.com/event/la-opening-for-maria-bamford/
LOCATION:Public Displays of Altadena\, 2553 Fair Oaks Ave\, Altadena\, CA\, 91001\, United States
END:VEVENT
BEGIN:VEVENT
DTSTART;TZID=America/Los_Angeles:20230114T140000
DTEND;TZID=America/Los_Angeles:20230114T150000
DTSTAMP:20260426T022301
CREATED:20230115T214520Z
LAST-MODIFIED:20230115T214520Z
UID:4704-1673704800-1673708400@www.pallavigunalan.com
SUMMARY:LA: Opening for Maria Bamford
DESCRIPTION:
URL:https://www.pallavigunalan.com/event/la-opening-for-maria-bamford-2/
LOCATION:Public Displays of Altadena\, 2553 Fair Oaks Ave\, Altadena\, CA\, 91001\, United States
END:VEVENT
BEGIN:VEVENT
DTSTART;TZID=America/Los_Angeles:20230115T200000
DTEND;TZID=America/Los_Angeles:20230115T213000
DTSTAMP:20260426T022301
CREATED:20221217T004118Z
LAST-MODIFIED:20221217T004118Z
UID:4657-1673812800-1673818200@www.pallavigunalan.com
SUMMARY:LA: Rock Paper Sundays
DESCRIPTION:
URL:https://www.pallavigunalan.com/event/la-rock-paper-sundays/
LOCATION:The Virgil\, 4519 Santa Monica Blvd\, Los Angeles\, CA\, 90029\, United States
END:VEVENT
BEGIN:VEVENT
DTSTART;TZID=America/Los_Angeles:20230124T190000
DTEND;TZID=America/Los_Angeles:20230124T203000
DTSTAMP:20260426T022301
CREATED:20230120T222738Z
LAST-MODIFIED:20230120T222738Z
UID:4712-1674586800-1674592200@www.pallavigunalan.com
SUMMARY:LA: Comedy Escape Room
DESCRIPTION:
URL:https://www.pallavigunalan.com/event/la-comedy-escape-room/
LOCATION:The Hermosillo\, The Hermosillo\, 5125 York Blvd\, Los Angeles\, CA\, 90042\, United States
END:VEVENT
BEGIN:VEVENT
DTSTART;TZID=America/Los_Angeles:20230124T200000
DTEND;TZID=America/Los_Angeles:20230124T213000
DTSTAMP:20260426T022301
CREATED:20230122T190727Z
LAST-MODIFIED:20230122T190727Z
UID:4715-1674590400-1674595800@www.pallavigunalan.com
SUMMARY:LA: The Dime Bar
DESCRIPTION:
URL:https://www.pallavigunalan.com/event/la-the-dime-bar-2/
LOCATION:The Dime Bar\, 442 N Fairfax Ave\, Los Angeles\, CA\, 90036\, United States
END:VEVENT
END:VCALENDAR