BEGIN:VCALENDAR
VERSION:2.0
PRODID:-//PALLAVI GUNALAN - ECPv6.15.17//NONSGML v1.0//EN
CALSCALE:GREGORIAN
METHOD:PUBLISH
X-WR-CALNAME:PALLAVI GUNALAN
X-ORIGINAL-URL:https://www.pallavigunalan.com
X-WR-CALDESC:Events for PALLAVI GUNALAN
REFRESH-INTERVAL;VALUE=DURATION:PT1H
X-Robots-Tag:noindex
X-PUBLISHED-TTL:PT1H
BEGIN:VTIMEZONE
TZID:America/Los_Angeles
BEGIN:DAYLIGHT
TZOFFSETFROM:-0800
TZOFFSETTO:-0700
TZNAME:PDT
DTSTART:20220313T100000
END:DAYLIGHT
BEGIN:STANDARD
TZOFFSETFROM:-0700
TZOFFSETTO:-0800
TZNAME:PST
DTSTART:20221106T090000
END:STANDARD
BEGIN:DAYLIGHT
TZOFFSETFROM:-0800
TZOFFSETTO:-0700
TZNAME:PDT
DTSTART:20230312T100000
END:DAYLIGHT
BEGIN:STANDARD
TZOFFSETFROM:-0700
TZOFFSETTO:-0800
TZNAME:PST
DTSTART:20231105T090000
END:STANDARD
BEGIN:DAYLIGHT
TZOFFSETFROM:-0800
TZOFFSETTO:-0700
TZNAME:PDT
DTSTART:20240310T100000
END:DAYLIGHT
BEGIN:STANDARD
TZOFFSETFROM:-0700
TZOFFSETTO:-0800
TZNAME:PST
DTSTART:20241103T090000
END:STANDARD
END:VTIMEZONE
BEGIN:VEVENT
DTSTART;TZID=America/Los_Angeles:20230203T200000
DTEND;TZID=America/Los_Angeles:20230203T213000
DTSTAMP:20260426T005838
CREATED:20221217T074128Z
LAST-MODIFIED:20221217T074128Z
UID:4660-1675454400-1675459800@www.pallavigunalan.com
SUMMARY:SF Sketchfest: Funnilingus
DESCRIPTION:
URL:https://www.pallavigunalan.com/event/sf-sketchfest-funnilingus/
LOCATION:Brava Theater – Cabaret Room\, 2773 24th St\, San Francisco\, CA\, 94110\, United States
END:VEVENT
BEGIN:VEVENT
DTSTART;TZID=America/Los_Angeles:20230203T220000
DTEND;TZID=America/Los_Angeles:20230203T233000
DTSTAMP:20260426T005838
CREATED:20221217T075333Z
LAST-MODIFIED:20221217T084601Z
UID:4662-1675461600-1675467000@www.pallavigunalan.com
SUMMARY:SF Sketchfest: Asian AF
DESCRIPTION:
URL:https://www.pallavigunalan.com/event/sf-sketchfest-asian-af/
LOCATION:Great Star Theater\, 636 Jackson Street\, San Francisco\, CA\, 94133\, United States
END:VEVENT
BEGIN:VEVENT
DTSTART;TZID=America/Los_Angeles:20230204T200000
DTEND;TZID=America/Los_Angeles:20230204T213000
DTSTAMP:20260426T005838
CREATED:20221217T084652Z
LAST-MODIFIED:20221217T084652Z
UID:4664-1675540800-1675546200@www.pallavigunalan.com
SUMMARY:SF Sketchfest: Facial Recognition Comedy
DESCRIPTION:
URL:https://www.pallavigunalan.com/event/sf-sketchfest-facial-recognition-comedy-2/
LOCATION:Brava Theater – Cabaret Room\, 2773 24th St\, San Francisco\, CA\, 94110\, United States
END:VEVENT
BEGIN:VEVENT
DTSTART;TZID=America/Los_Angeles:20230204T221500
DTEND;TZID=America/Los_Angeles:20230204T233000
DTSTAMP:20260426T005838
CREATED:20221217T084722Z
LAST-MODIFIED:20221217T084722Z
UID:4666-1675548900-1675553400@www.pallavigunalan.com
SUMMARY:SF Sketchfest: Facial Recognition Comedy
DESCRIPTION:
URL:https://www.pallavigunalan.com/event/sf-sketchfest-facial-recognition-comedy-3/
LOCATION:Brava Theater – Cabaret Room\, 2773 24th St\, San Francisco\, CA\, 94110\, United States
END:VEVENT
BEGIN:VEVENT
DTSTART;TZID=America/Los_Angeles:20230205T190000
DTEND;TZID=America/Los_Angeles:20230205T203000
DTSTAMP:20260426T005838
CREATED:20230102T114513Z
LAST-MODIFIED:20230131T034201Z
UID:4695-1675623600-1675629000@www.pallavigunalan.com
SUMMARY:LA: Chocolate Sundaes
DESCRIPTION:
URL:https://www.pallavigunalan.com/event/la-chocolate-sundaes/
LOCATION:Laugh Factory – Hollywood\, 8001 Sunset Blvd\, Los Angeles\, CA\, 90046\, United States
END:VEVENT
BEGIN:VEVENT
DTSTART;TZID=America/Los_Angeles:20230206T193000
DTEND;TZID=America/Los_Angeles:20230206T210000
DTSTAMP:20260426T005838
CREATED:20230102T083813Z
LAST-MODIFIED:20230102T083813Z
UID:4691-1675711800-1675717200@www.pallavigunalan.com
SUMMARY:LA: Flappers
DESCRIPTION:
URL:https://www.pallavigunalan.com/event/la-flappers-5/
LOCATION:CA
END:VEVENT
BEGIN:VEVENT
DTSTART;TZID=America/Los_Angeles:20230207T200000
DTEND;TZID=America/Los_Angeles:20230207T213000
DTSTAMP:20260426T005838
CREATED:20230118T060303Z
LAST-MODIFIED:20230118T060303Z
UID:4709-1675800000-1675805400@www.pallavigunalan.com
SUMMARY:LA: The Yard Comedy Party
DESCRIPTION:Location upon ticket purchase
URL:https://www.pallavigunalan.com/event/la-the-yard-comedy-party/
LOCATION:CA
END:VEVENT
BEGIN:VEVENT
DTSTART;TZID=America/Los_Angeles:20230209T190000
DTEND;TZID=America/Los_Angeles:20230209T203000
DTSTAMP:20260426T005838
CREATED:20230209T195818Z
LAST-MODIFIED:20230209T195818Z
UID:4737-1675969200-1675974600@www.pallavigunalan.com
SUMMARY:LA: Comedy Basement
DESCRIPTION:
URL:https://www.pallavigunalan.com/event/la-comedy-basement/
LOCATION:Grand Central Market\, 317 S. Broadway\, Los Angeles\, CA\, 90013\, United States
END:VEVENT
BEGIN:VEVENT
DTSTART;TZID=America/Los_Angeles:20230209T200000
DTEND;TZID=America/Los_Angeles:20230209T213000
DTSTAMP:20260426T005838
CREATED:20230115T214752Z
LAST-MODIFIED:20230115T214752Z
UID:4706-1675972800-1675978200@www.pallavigunalan.com
SUMMARY:LA: Yes Baby! Vintage
DESCRIPTION:
URL:https://www.pallavigunalan.com/event/la-yes-baby-vintage/
LOCATION:Yes Baby! Vintage\, 3420 W Magnolia Blvd\, Burbank\, CA\, 91505\, United States
END:VEVENT
BEGIN:VEVENT
DTSTART;TZID=America/Los_Angeles:20230210T200000
DTEND;TZID=America/Los_Angeles:20230210T213000
DTSTAMP:20260426T005838
CREATED:20230207T093659Z
LAST-MODIFIED:20230207T093709Z
UID:4728-1676059200-1676064600@www.pallavigunalan.com
SUMMARY:LA: Westside Comedy Theater
DESCRIPTION:
URL:https://www.pallavigunalan.com/event/la-westside-comedy-theatre/
LOCATION:Westside Comedy\, 1323-A 3rd St\, Santa Monica\, CA\, 90401\, United States
END:VEVENT
BEGIN:VEVENT
DTSTART;TZID=America/Los_Angeles:20230211T190000
DTEND;TZID=America/Los_Angeles:20230211T203000
DTSTAMP:20260426T005838
CREATED:20230207T093746Z
LAST-MODIFIED:20230207T093746Z
UID:4731-1676142000-1676147400@www.pallavigunalan.com
SUMMARY:LA: The Hollywood Improv
DESCRIPTION:
URL:https://www.pallavigunalan.com/event/la-the-hollywood-improv/
LOCATION:Hollywood Improv\, 8162 Melrose Ave\, Los Angeles\, CA\, 90046\, United States
END:VEVENT
BEGIN:VEVENT
DTSTART;TZID=America/Los_Angeles:20230213T200000
DTEND;TZID=America/Los_Angeles:20230213T213000
DTSTAMP:20260426T005838
CREATED:20230131T034224Z
LAST-MODIFIED:20230131T034224Z
UID:4718-1676318400-1676323800@www.pallavigunalan.com
SUMMARY:LA: Flappers
DESCRIPTION:
URL:https://www.pallavigunalan.com/event/la-flappers-6/
LOCATION:Flappers Comedy Club\, 102 E Magnolia Blvd\, Burbank\, CA\, 91502\, United States
END:VEVENT
BEGIN:VEVENT
DTSTART;TZID=America/Los_Angeles:20230216T200000
DTEND;TZID=America/Los_Angeles:20230216T213000
DTSTAMP:20260426T005838
CREATED:20230131T034553Z
LAST-MODIFIED:20230131T034553Z
UID:4720-1676577600-1676583000@www.pallavigunalan.com
SUMMARY:LA: The Comedy Chateau
DESCRIPTION:
URL:https://www.pallavigunalan.com/event/la-the-comedy-chateau/
LOCATION:The Comedy Chateau\, 4615 Lankershim Blvd\, North Hollywood\, CA\, 91602\, United States
END:VEVENT
BEGIN:VEVENT
DTSTART;TZID=America/Los_Angeles:20230217T213000
DTEND;TZID=America/Los_Angeles:20230217T230000
DTSTAMP:20260426T005838
CREATED:20230211T010647Z
LAST-MODIFIED:20230211T010647Z
UID:4745-1676669400-1676674800@www.pallavigunalan.com
SUMMARY:LA: The Hollywood Comedy
DESCRIPTION:
URL:https://www.pallavigunalan.com/event/la-the-hollywood-comedy/
LOCATION:The Hollywood Comedy\, 5871 Melrose Ave\, Los Angeles\, CA\, 90038\, United States
END:VEVENT
BEGIN:VEVENT
DTSTART;TZID=America/Los_Angeles:20230218T200000
DTEND;TZID=America/Los_Angeles:20230218T213000
DTSTAMP:20260426T005838
CREATED:20230102T083857Z
LAST-MODIFIED:20230102T085152Z
UID:4693-1676750400-1676755800@www.pallavigunalan.com
SUMMARY:LA: Fourth Wall Cafe
DESCRIPTION:
URL:https://www.pallavigunalan.com/event/la-fourth-wall-cafe/
LOCATION:Fourth Wall Cafe\, 5220 Hollywood Blvd\, Los Angeles\, CA\, 90027\, United States
END:VEVENT
BEGIN:VEVENT
DTSTART;TZID=America/Los_Angeles:20230223T200000
DTEND;TZID=America/Los_Angeles:20230223T213000
DTSTAMP:20260426T005838
CREATED:20230222T043020Z
LAST-MODIFIED:20230222T043020Z
UID:4757-1677182400-1677187800@www.pallavigunalan.com
SUMMARY:LA: Flappers
DESCRIPTION:
URL:https://www.pallavigunalan.com/event/la-flappers-7/
LOCATION:Flappers Comedy Club\, 102 E Magnolia Blvd\, Burbank\, CA\, 91502\, United States
END:VEVENT
BEGIN:VEVENT
DTSTART;TZID=America/Los_Angeles:20230226T193000
DTEND;TZID=America/Los_Angeles:20230226T210000
DTSTAMP:20260426T005838
CREATED:20230102T223225Z
LAST-MODIFIED:20230102T223225Z
UID:4697-1677439800-1677445200@www.pallavigunalan.com
SUMMARY:San Diego: Mic Drop
DESCRIPTION:
URL:https://www.pallavigunalan.com/event/san-diego-mic-drop/
LOCATION:Mic Drop Comedy\, 8878 Clairemont Mesa Blvd\, San Diego\, CA\, 92123\, United States
END:VEVENT
END:VCALENDAR