BEGIN:VCALENDAR
VERSION:2.0
PRODID:-//PALLAVI GUNALAN - ECPv6.15.17//NONSGML v1.0//EN
CALSCALE:GREGORIAN
METHOD:PUBLISH
X-WR-CALNAME:PALLAVI GUNALAN
X-ORIGINAL-URL:https://www.pallavigunalan.com
X-WR-CALDESC:Events for PALLAVI GUNALAN
REFRESH-INTERVAL;VALUE=DURATION:PT1H
X-Robots-Tag:noindex
X-PUBLISHED-TTL:PT1H
BEGIN:VTIMEZONE
TZID:America/Los_Angeles
BEGIN:DAYLIGHT
TZOFFSETFROM:-0800
TZOFFSETTO:-0700
TZNAME:PDT
DTSTART:20220313T100000
END:DAYLIGHT
BEGIN:STANDARD
TZOFFSETFROM:-0700
TZOFFSETTO:-0800
TZNAME:PST
DTSTART:20221106T090000
END:STANDARD
BEGIN:DAYLIGHT
TZOFFSETFROM:-0800
TZOFFSETTO:-0700
TZNAME:PDT
DTSTART:20230312T100000
END:DAYLIGHT
BEGIN:STANDARD
TZOFFSETFROM:-0700
TZOFFSETTO:-0800
TZNAME:PST
DTSTART:20231105T090000
END:STANDARD
BEGIN:DAYLIGHT
TZOFFSETFROM:-0800
TZOFFSETTO:-0700
TZNAME:PDT
DTSTART:20240310T100000
END:DAYLIGHT
BEGIN:STANDARD
TZOFFSETFROM:-0700
TZOFFSETTO:-0800
TZNAME:PST
DTSTART:20241103T090000
END:STANDARD
END:VTIMEZONE
BEGIN:VEVENT
DTSTART;TZID=America/Los_Angeles:20230401T193000
DTEND;TZID=America/Los_Angeles:20230401T210000
DTSTAMP:20260425T223334
CREATED:20230321T193059Z
LAST-MODIFIED:20230321T193059Z
UID:4778-1680377400-1680382800@www.pallavigunalan.com
SUMMARY:LA: The Comedy Chateau
DESCRIPTION:
URL:https://www.pallavigunalan.com/event/la-the-comedy-chateau-2/
LOCATION:The Comedy Chateau\, 4615 Lankershim Blvd\, North Hollywood\, CA\, 91602\, United States
END:VEVENT
BEGIN:VEVENT
DTSTART;TZID=America/Los_Angeles:20230402T190000
DTEND;TZID=America/Los_Angeles:20230402T203000
DTSTAMP:20260425T223334
CREATED:20230326T041609Z
LAST-MODIFIED:20230326T041609Z
UID:4799-1680462000-1680467400@www.pallavigunalan.com
SUMMARY:LA: The Three Clubs
DESCRIPTION:
URL:https://www.pallavigunalan.com/event/la-the-three-clubs/
LOCATION:The Three Clubs\, 1123 Vine St\, Los Angeles\, CA\, 90038\, United States
END:VEVENT
BEGIN:VEVENT
DTSTART;TZID=America/Los_Angeles:20230405T180000
DTEND;TZID=America/Los_Angeles:20230405T210000
DTSTAMP:20260425T223334
CREATED:20230326T041323Z
LAST-MODIFIED:20230326T041323Z
UID:4797-1680717600-1680728400@www.pallavigunalan.com
SUMMARY:LA: South Asian AF
DESCRIPTION:
URL:https://www.pallavigunalan.com/event/la-south-asian-af/
LOCATION:The Good Nite\, 10721 Burbank Blvd\, North Hollywood\, CA\, 91601\, United States
END:VEVENT
BEGIN:VEVENT
DTSTART;TZID=America/Los_Angeles:20230406T193000
DTEND;TZID=America/Los_Angeles:20230406T210000
DTSTAMP:20260425T223334
CREATED:20230321T204138Z
LAST-MODIFIED:20230322T204709Z
UID:4780-1680809400-1680814800@www.pallavigunalan.com
SUMMARY:LA: The Comedy Chateau
DESCRIPTION:
URL:https://www.pallavigunalan.com/event/la-the-comedy-chateau-3/
LOCATION:The Comedy Chateau\, 4615 Lankershim Blvd\, North Hollywood\, CA\, 91602\, United States
END:VEVENT
BEGIN:VEVENT
DTSTART;TZID=America/Los_Angeles:20230408T193000
DTEND;TZID=America/Los_Angeles:20230408T210000
DTSTAMP:20260425T223334
CREATED:20230321T204221Z
LAST-MODIFIED:20230321T204221Z
UID:4782-1680982200-1680987600@www.pallavigunalan.com
SUMMARY:LA: The Comedy Chateau
DESCRIPTION:
URL:https://www.pallavigunalan.com/event/la-the-comedy-chateau-4/
LOCATION:The Comedy Chateau\, 4615 Lankershim Blvd\, North Hollywood\, CA\, 91602\, United States
END:VEVENT
BEGIN:VEVENT
DTSTART;TZID=America/Los_Angeles:20230408T220000
DTEND;TZID=America/Los_Angeles:20230408T233000
DTSTAMP:20260425T223334
CREATED:20230404T171417Z
LAST-MODIFIED:20230404T171417Z
UID:4804-1680991200-1680996600@www.pallavigunalan.com
SUMMARY:LA: Laugh Factory Hollywood
DESCRIPTION:
URL:https://www.pallavigunalan.com/event/la-laugh-factory-hollywood/
LOCATION:Laugh Factory – Hollywood\, 8001 Sunset Blvd\, Los Angeles\, CA\, 90046\, United States
END:VEVENT
BEGIN:VEVENT
DTSTART;TZID=America/Los_Angeles:20230410T210000
DTEND;TZID=America/Los_Angeles:20230410T230000
DTSTAMP:20260425T223334
CREATED:20230408T031147Z
LAST-MODIFIED:20230408T031214Z
UID:4808-1681160400-1681167600@www.pallavigunalan.com
SUMMARY:LA: A Stand-up and Clown Show
DESCRIPTION:
URL:https://www.pallavigunalan.com/event/a-stand-up-and-clown-show/
LOCATION:The Elysian Theater\, 1944 Riverside Dr\, Los Angeles\, CA\, 90039\, United States
END:VEVENT
BEGIN:VEVENT
DTSTART;TZID=America/Los_Angeles:20230412T190000
DTEND;TZID=America/Los_Angeles:20230412T203000
DTSTAMP:20260425T223334
CREATED:20230404T185125Z
LAST-MODIFIED:20230404T185125Z
UID:4806-1681326000-1681331400@www.pallavigunalan.com
SUMMARY:LA: Asian AF (Improv)
DESCRIPTION:
URL:https://www.pallavigunalan.com/event/la-asian-af-improv/
LOCATION:UCB Franklin\, 5919 Franklin Ave\, Los Angeles\, CA\, 90028\, United States
END:VEVENT
BEGIN:VEVENT
DTSTART;TZID=America/Los_Angeles:20230414T220000
DTEND;TZID=America/Los_Angeles:20230414T233000
DTSTAMP:20260425T223334
CREATED:20230321T204259Z
LAST-MODIFIED:20230321T204727Z
UID:4784-1681509600-1681515000@www.pallavigunalan.com
SUMMARY:LA: The Comedy Chateau
DESCRIPTION:
URL:https://www.pallavigunalan.com/event/la-the-comedy-chateau-5/
LOCATION:The Comedy Chateau\, 4615 Lankershim Blvd\, North Hollywood\, CA\, 91602\, United States
END:VEVENT
BEGIN:VEVENT
DTSTART;TZID=America/Los_Angeles:20230416T193000
DTEND;TZID=America/Los_Angeles:20230416T210000
DTSTAMP:20260425T223334
CREATED:20230321T204808Z
LAST-MODIFIED:20230321T204808Z
UID:4792-1681673400-1681678800@www.pallavigunalan.com
SUMMARY:LA: The Comedy Chateau
DESCRIPTION:
URL:https://www.pallavigunalan.com/event/la-the-comedy-chateau-9/
LOCATION:The Comedy Chateau\, 4615 Lankershim Blvd\, North Hollywood\, CA\, 91602\, United States
END:VEVENT
BEGIN:VEVENT
DTSTART;TZID=America/Los_Angeles:20230417T200000
DTEND;TZID=America/Los_Angeles:20230417T213000
DTSTAMP:20260425T223334
CREATED:20230102T083628Z
LAST-MODIFIED:20230315T213032Z
UID:4689-1681761600-1681767000@www.pallavigunalan.com
SUMMARY:LA: Oeno Vino
DESCRIPTION:
URL:https://www.pallavigunalan.com/event/la-oeno-vino/
LOCATION:Oeno Vino\, 3111 Glendale Blvd #2\, Los Angeles\, CA\, 90039\, United States
END:VEVENT
BEGIN:VEVENT
DTSTART;TZID=America/Los_Angeles:20230420T200000
DTEND;TZID=America/Los_Angeles:20230420T213000
DTSTAMP:20260425T223334
CREATED:20230411T183501Z
LAST-MODIFIED:20230411T183501Z
UID:4814-1682020800-1682026200@www.pallavigunalan.com
SUMMARY:LA: Tramp Stamp Granny's
DESCRIPTION:
URL:https://www.pallavigunalan.com/event/la-tramp-stamp-grannys/
LOCATION:Tramp Stamp Granny’s\, 1638 N Cahuenga Blvd\, Los Angeles\, CA\, 90028\, United States
END:VEVENT
BEGIN:VEVENT
DTSTART;TZID=America/Los_Angeles:20230421T200000
DTEND;TZID=America/Los_Angeles:20230421T213000
DTSTAMP:20260425T223334
CREATED:20230420T010931Z
LAST-MODIFIED:20230420T010931Z
UID:4834-1682107200-1682112600@www.pallavigunalan.com
SUMMARY:LA: Free Comedy Show
DESCRIPTION:Contact Allie Berkowitz
URL:https://www.pallavigunalan.com/event/la-free-comedy-show/
LOCATION:CA
END:VEVENT
BEGIN:VEVENT
DTSTART;TZID=America/Los_Angeles:20230421T220000
DTEND;TZID=America/Los_Angeles:20230421T233000
DTSTAMP:20260425T223334
CREATED:20230420T010250Z
LAST-MODIFIED:20230420T010250Z
UID:4832-1682114400-1682119800@www.pallavigunalan.com
SUMMARY:LA: Westside Comedy Theater
DESCRIPTION:
URL:https://www.pallavigunalan.com/event/la-westside-comedy-theater-5/
LOCATION:Westside Comedy\, 1323-A 3rd St\, Santa Monica\, CA\, 90401\, United States
END:VEVENT
BEGIN:VEVENT
DTSTART;TZID=America/Los_Angeles:20230422T140000
DTEND;TZID=America/Los_Angeles:20230422T153000
DTSTAMP:20260425T223334
CREATED:20230413T074542Z
LAST-MODIFIED:20230413T074542Z
UID:4818-1682172000-1682177400@www.pallavigunalan.com
SUMMARY:LA: Spacedust
DESCRIPTION:
URL:https://www.pallavigunalan.com/event/la-spacedust/
LOCATION:CA
END:VEVENT
BEGIN:VEVENT
DTSTART;TZID=America/Los_Angeles:20230422T193000
DTEND;TZID=America/Los_Angeles:20230422T210000
DTSTAMP:20260425T223334
CREATED:20230321T204332Z
LAST-MODIFIED:20230321T204332Z
UID:4786-1682191800-1682197200@www.pallavigunalan.com
SUMMARY:LA: The Comedy Chateau
DESCRIPTION:
URL:https://www.pallavigunalan.com/event/la-the-comedy-chateau-6/
LOCATION:The Comedy Chateau\, 4615 Lankershim Blvd\, North Hollywood\, CA\, 91602\, United States
END:VEVENT
BEGIN:VEVENT
DTSTART;TZID=America/Los_Angeles:20230424T200000
DTEND;TZID=America/Los_Angeles:20230424T213000
DTSTAMP:20260425T223334
CREATED:20230326T041751Z
LAST-MODIFIED:20230408T031229Z
UID:4801-1682366400-1682371800@www.pallavigunalan.com
SUMMARY:LA: Oeno Vino
DESCRIPTION:
URL:https://www.pallavigunalan.com/event/la-oeno-vino-2/
LOCATION:Oeno Vino\, 3111 Glendale Blvd #2\, Los Angeles\, CA\, 90039\, United States
END:VEVENT
BEGIN:VEVENT
DTSTART;TZID=America/Los_Angeles:20230425T200000
DTEND;TZID=America/Los_Angeles:20230425T213000
DTSTAMP:20260425T223334
CREATED:20230411T183136Z
LAST-MODIFIED:20230411T183136Z
UID:4812-1682452800-1682458200@www.pallavigunalan.com
SUMMARY:LA: Flappers
DESCRIPTION:
URL:https://www.pallavigunalan.com/event/la-flappers-8/
LOCATION:Flappers Comedy Club\, 102 E Magnolia Blvd\, Burbank\, CA\, 91502\, United States
END:VEVENT
BEGIN:VEVENT
DTSTART;TZID=America/Los_Angeles:20230426T220000
DTEND;TZID=America/Los_Angeles:20230426T233000
DTSTAMP:20260425T223334
CREATED:20230324T193106Z
LAST-MODIFIED:20230324T193106Z
UID:4795-1682546400-1682551800@www.pallavigunalan.com
SUMMARY:LA: UCB
DESCRIPTION:
URL:https://www.pallavigunalan.com/event/la-ucb/
LOCATION:UCB Franklin\, 5919 Franklin Ave\, Los Angeles\, CA\, 90028\, United States
END:VEVENT
BEGIN:VEVENT
DTSTART;TZID=America/Los_Angeles:20230427T200000
DTEND;TZID=America/Los_Angeles:20230427T213000
DTSTAMP:20260425T223334
CREATED:20230502T224422Z
LAST-MODIFIED:20230502T224422Z
UID:4863-1682625600-1682631000@www.pallavigunalan.com
SUMMARY:LA: The Garage
DESCRIPTION:
URL:https://www.pallavigunalan.com/event/la-the-garage/
LOCATION:The Garage\, 3387 Motor Ave\, Los Angeles\, CA\, 90034\, United States
END:VEVENT
BEGIN:VEVENT
DTSTART;TZID=America/Los_Angeles:20230428T220000
DTEND;TZID=America/Los_Angeles:20230428T233000
DTSTAMP:20260425T223334
CREATED:20230321T204358Z
LAST-MODIFIED:20230321T204834Z
UID:4788-1682719200-1682724600@www.pallavigunalan.com
SUMMARY:LA: The Comedy Chateau
DESCRIPTION:
URL:https://www.pallavigunalan.com/event/la-the-comedy-chateau-7/
LOCATION:The Comedy Chateau\, 4615 Lankershim Blvd\, North Hollywood\, CA\, 91602\, United States
END:VEVENT
BEGIN:VEVENT
DTSTART;TZID=America/Los_Angeles:20230429T193000
DTEND;TZID=America/Los_Angeles:20230429T210000
DTSTAMP:20260425T223334
CREATED:20230424T200810Z
LAST-MODIFIED:20230424T200810Z
UID:4841-1682796600-1682802000@www.pallavigunalan.com
SUMMARY:LA: Flappers
DESCRIPTION:
URL:https://www.pallavigunalan.com/event/la-flappers-9/
LOCATION:Flappers Comedy Club\, 102 E Magnolia Blvd\, Burbank\, CA\, 91502\, United States
END:VEVENT
BEGIN:VEVENT
DTSTART;TZID=America/Los_Angeles:20230429T213000
DTEND;TZID=America/Los_Angeles:20230429T230000
DTSTAMP:20260425T223334
CREATED:20230424T200834Z
LAST-MODIFIED:20230424T200834Z
UID:4843-1682803800-1682809200@www.pallavigunalan.com
SUMMARY:LA: Flappers
DESCRIPTION:
URL:https://www.pallavigunalan.com/event/la-flappers-10/
LOCATION:Flappers Comedy Club\, 102 E Magnolia Blvd\, Burbank\, CA\, 91502\, United States
END:VEVENT
BEGIN:VEVENT
DTSTART;TZID=America/Los_Angeles:20230430T203000
DTEND;TZID=America/Los_Angeles:20230430T220000
DTSTAMP:20260425T223334
CREATED:20230424T201443Z
LAST-MODIFIED:20230424T201443Z
UID:4848-1682886600-1682892000@www.pallavigunalan.com
SUMMARY:LA: South Asian AF
DESCRIPTION:
URL:https://www.pallavigunalan.com/event/la-south-asian-af-2/
LOCATION:UCB Franklin\, 5919 Franklin Ave\, Los Angeles\, CA\, 90028\, United States
END:VEVENT
END:VCALENDAR