BEGIN:VCALENDAR
VERSION:2.0
PRODID:-//PALLAVI GUNALAN - ECPv6.15.17//NONSGML v1.0//EN
CALSCALE:GREGORIAN
METHOD:PUBLISH
X-WR-CALNAME:PALLAVI GUNALAN
X-ORIGINAL-URL:https://www.pallavigunalan.com
X-WR-CALDESC:Events for PALLAVI GUNALAN
REFRESH-INTERVAL;VALUE=DURATION:PT1H
X-Robots-Tag:noindex
X-PUBLISHED-TTL:PT1H
BEGIN:VTIMEZONE
TZID:America/Los_Angeles
BEGIN:DAYLIGHT
TZOFFSETFROM:-0800
TZOFFSETTO:-0700
TZNAME:PDT
DTSTART:20220313T100000
END:DAYLIGHT
BEGIN:STANDARD
TZOFFSETFROM:-0700
TZOFFSETTO:-0800
TZNAME:PST
DTSTART:20221106T090000
END:STANDARD
BEGIN:DAYLIGHT
TZOFFSETFROM:-0800
TZOFFSETTO:-0700
TZNAME:PDT
DTSTART:20230312T100000
END:DAYLIGHT
BEGIN:STANDARD
TZOFFSETFROM:-0700
TZOFFSETTO:-0800
TZNAME:PST
DTSTART:20231105T090000
END:STANDARD
BEGIN:DAYLIGHT
TZOFFSETFROM:-0800
TZOFFSETTO:-0700
TZNAME:PDT
DTSTART:20240310T100000
END:DAYLIGHT
BEGIN:STANDARD
TZOFFSETFROM:-0700
TZOFFSETTO:-0800
TZNAME:PST
DTSTART:20241103T090000
END:STANDARD
END:VTIMEZONE
BEGIN:VTIMEZONE
TZID:America/New_York
BEGIN:DAYLIGHT
TZOFFSETFROM:-0500
TZOFFSETTO:-0400
TZNAME:EDT
DTSTART:20220313T070000
END:DAYLIGHT
BEGIN:STANDARD
TZOFFSETFROM:-0400
TZOFFSETTO:-0500
TZNAME:EST
DTSTART:20221106T060000
END:STANDARD
BEGIN:DAYLIGHT
TZOFFSETFROM:-0500
TZOFFSETTO:-0400
TZNAME:EDT
DTSTART:20230312T070000
END:DAYLIGHT
BEGIN:STANDARD
TZOFFSETFROM:-0400
TZOFFSETTO:-0500
TZNAME:EST
DTSTART:20231105T060000
END:STANDARD
BEGIN:DAYLIGHT
TZOFFSETFROM:-0500
TZOFFSETTO:-0400
TZNAME:EDT
DTSTART:20240310T070000
END:DAYLIGHT
BEGIN:STANDARD
TZOFFSETFROM:-0400
TZOFFSETTO:-0500
TZNAME:EST
DTSTART:20241103T060000
END:STANDARD
END:VTIMEZONE
BEGIN:VEVENT
DTSTART;TZID=America/Los_Angeles:20230603T210000
DTEND;TZID=America/Los_Angeles:20230603T223000
DTSTAMP:20260425T192558
CREATED:20230525T071134Z
LAST-MODIFIED:20230525T071134Z
UID:4889-1685826000-1685831400@www.pallavigunalan.com
SUMMARY:LA: Flappers
DESCRIPTION:
URL:https://www.pallavigunalan.com/event/la-flappers-11/
LOCATION:Flappers Comedy Club\, 102 E Magnolia Blvd\, Burbank\, CA\, 91502\, United States
END:VEVENT
BEGIN:VEVENT
DTSTART;TZID=America/Los_Angeles:20230606T190000
DTEND;TZID=America/Los_Angeles:20230606T203000
DTSTAMP:20260425T192558
CREATED:20230606T041232Z
LAST-MODIFIED:20230606T041232Z
UID:4912-1686078000-1686083400@www.pallavigunalan.com
SUMMARY:LA: Lyric Hyperion - ft. for Kiran Deol
DESCRIPTION:
URL:https://www.pallavigunalan.com/event/la-lyric-hyperion-ft-for-kiran-deol/
LOCATION:The Lyric Hyperion\, 2106 Hyperion Avenue\, Los Angeles\, CA\, 90027\, United States
END:VEVENT
BEGIN:VEVENT
DTSTART;TZID=America/Los_Angeles:20230608T193000
DTEND;TZID=America/Los_Angeles:20230608T210000
DTSTAMP:20260425T192558
CREATED:20230512T163457Z
LAST-MODIFIED:20230512T163457Z
UID:4873-1686252600-1686258000@www.pallavigunalan.com
SUMMARY:LA: Be Kind Video
DESCRIPTION:
URL:https://www.pallavigunalan.com/event/la-be-kind-video-2/
LOCATION:Be Kind Video\, 3601 1/2 Magnolia Blvd\, Burbank\, CA\, 91505\, United States
END:VEVENT
BEGIN:VEVENT
DTSTART;TZID=America/Los_Angeles:20230609T200000
DTEND;TZID=America/Los_Angeles:20230609T213000
DTSTAMP:20260425T192558
CREATED:20230530T012115Z
LAST-MODIFIED:20230530T012115Z
UID:4893-1686340800-1686346200@www.pallavigunalan.com
SUMMARY:LA: Westside Comedy
DESCRIPTION:
URL:https://www.pallavigunalan.com/event/la-westside-comedy/
LOCATION:Westside Comedy\, 1323-A 3rd St\, Santa Monica\, CA\, 90401\, United States
END:VEVENT
BEGIN:VEVENT
DTSTART;TZID=America/Los_Angeles:20230610T220000
DTEND;TZID=America/Los_Angeles:20230610T233000
DTSTAMP:20260425T192558
CREATED:20230530T191919Z
LAST-MODIFIED:20230530T191919Z
UID:4901-1686434400-1686439800@www.pallavigunalan.com
SUMMARY:LA: The Comedy Chateau
DESCRIPTION:
URL:https://www.pallavigunalan.com/event/la-the-comedy-chateau-11/
LOCATION:The Comedy Chateau\, 4615 Lankershim Blvd\, North Hollywood\, CA\, 91602\, United States
END:VEVENT
BEGIN:VEVENT
DTSTART;TZID=America/Los_Angeles:20230610T220000
DTEND;TZID=America/Los_Angeles:20230610T233000
DTSTAMP:20260425T192558
CREATED:20230620T230143Z
LAST-MODIFIED:20230620T230143Z
UID:4985-1686434400-1686439800@www.pallavigunalan.com
SUMMARY:LA: The Comedy Chateau
DESCRIPTION:
URL:https://www.pallavigunalan.com/event/la-the-comedy-chateau-19/
LOCATION:The Comedy Chateau\, 4615 Lankershim Blvd\, North Hollywood\, CA\, 91602\, United States
END:VEVENT
BEGIN:VEVENT
DTSTART;TZID=America/Los_Angeles:20230611T200000
DTEND;TZID=America/Los_Angeles:20230611T213000
DTSTAMP:20260425T192558
CREATED:20230522T000404Z
LAST-MODIFIED:20230522T000404Z
UID:4886-1686513600-1686519000@www.pallavigunalan.com
SUMMARY:Online: Comedy Clusterf*ck
DESCRIPTION:
URL:https://www.pallavigunalan.com/event/online-comedy-clusterfck/
LOCATION:CA
END:VEVENT
BEGIN:VEVENT
DTSTART;TZID=America/New_York:20230613T200000
DTEND;TZID=America/New_York:20230613T213000
DTSTAMP:20260425T192558
CREATED:20230608T200338Z
LAST-MODIFIED:20230608T200338Z
UID:4922-1686686400-1686691800@www.pallavigunalan.com
SUMMARY:DC: Shenanigans
DESCRIPTION:
URL:https://www.pallavigunalan.com/event/dc-shenanigans/
LOCATION:Shenanigans (DC)\, 2450 18th St NW\, Washington\, DC\, 20009\, United States
END:VEVENT
BEGIN:VEVENT
DTSTART;TZID=America/New_York:20230614T200000
DTEND;TZID=America/New_York:20230614T213000
DTSTAMP:20260425T192558
CREATED:20230606T084252Z
LAST-MODIFIED:20230606T084252Z
UID:4914-1686772800-1686778200@www.pallavigunalan.com
SUMMARY:DC: B Live
DESCRIPTION:
URL:https://www.pallavigunalan.com/event/dc-b-live/
LOCATION:B Live\, 2854 Wilson Blvd\, Arlington\, VA\, 22201\, United States
END:VEVENT
BEGIN:VEVENT
DTSTART;TZID=America/New_York:20230614T200000
DTEND;TZID=America/New_York:20230614T213000
DTSTAMP:20260425T192558
CREATED:20230614T125916Z
LAST-MODIFIED:20230614T125916Z
UID:4960-1686772800-1686778200@www.pallavigunalan.com
SUMMARY:DC: Town Tavern
DESCRIPTION:
URL:https://www.pallavigunalan.com/event/dc-town-tavern/
LOCATION:Town Tavern\, 2323 18th St NW\, Washington\, DC\, 20009\, United States
END:VEVENT
BEGIN:VEVENT
DTSTART;TZID=America/New_York:20230615T200000
DTEND;TZID=America/New_York:20230615T213000
DTSTAMP:20260425T192558
CREATED:20230530T032805Z
LAST-MODIFIED:20230530T032805Z
UID:4895-1686859200-1686864600@www.pallavigunalan.com
SUMMARY:NY: Stand Up NY
DESCRIPTION:
URL:https://www.pallavigunalan.com/event/ny-stand-up-ny/
LOCATION:Stand Up NY\, 236 W 78th St\, New York\, NY\, 10024\, United States
END:VEVENT
BEGIN:VEVENT
DTSTART;TZID=America/New_York:20230616T210000
DTEND;TZID=America/New_York:20230616T223000
DTSTAMP:20260425T192558
CREATED:20230608T201719Z
LAST-MODIFIED:20230608T201719Z
UID:4931-1686949200-1686954600@www.pallavigunalan.com
SUMMARY:NYC: Beauty Bar
DESCRIPTION:
URL:https://www.pallavigunalan.com/event/nyc-beauty-bar/
LOCATION:Beauty Bar\, 231 E 14th St\, New York\, NY\, 10003\, United States
END:VEVENT
BEGIN:VEVENT
DTSTART;TZID=America/New_York:20230616T220000
DTEND;TZID=America/New_York:20230616T233000
DTSTAMP:20260425T192558
CREATED:20230613T061903Z
LAST-MODIFIED:20230613T153922Z
UID:4942-1686952800-1686958200@www.pallavigunalan.com
SUMMARY:NY: 7th Street Comedy
DESCRIPTION:
URL:https://www.pallavigunalan.com/event/ny-7th-street-comedy/
LOCATION:95 E 7th St\, 95 E 7th St\, New York\, NY\, 10009\, United States
END:VEVENT
BEGIN:VEVENT
DTSTART;TZID=America/New_York:20230617T190000
DTEND;TZID=America/New_York:20230617T203000
DTSTAMP:20260425T192558
CREATED:20230613T062342Z
LAST-MODIFIED:20230613T062342Z
UID:4944-1687028400-1687033800@www.pallavigunalan.com
SUMMARY:NYC: House Party Cafe & Lounge
DESCRIPTION:
URL:https://www.pallavigunalan.com/event/nyc-house-party-cafe-lounge/
LOCATION:House Party Cafe & Lounge\, 1178 Bushwick Ave\, Brooklyn\, NY\, 11221\, United States
END:VEVENT
BEGIN:VEVENT
DTSTART;TZID=America/New_York:20230618T183000
DTEND;TZID=America/New_York:20230618T200000
DTSTAMP:20260425T192558
CREATED:20230613T170716Z
LAST-MODIFIED:20230613T170746Z
UID:4948-1687113000-1687118400@www.pallavigunalan.com
SUMMARY:NYC: Queens
DESCRIPTION:
URL:https://www.pallavigunalan.com/event/nyc-queens/
LOCATION:1535 Decatur St\, 1535 Decatur St\, Queens\, NY\, 11385\, United States
END:VEVENT
BEGIN:VEVENT
DTSTART;TZID=America/New_York:20230618T200000
DTEND;TZID=America/New_York:20230618T213000
DTSTAMP:20260425T192558
CREATED:20230608T201823Z
LAST-MODIFIED:20230612T191730Z
UID:4933-1687118400-1687123800@www.pallavigunalan.com
SUMMARY:NYC: Eastville Comedy Club
DESCRIPTION:
URL:https://www.pallavigunalan.com/event/nyc-eastville-comedy-club/
LOCATION:EastVille Comedy Club\, 487 Atlantic Ave\, Brooklyn\, NY\, 11217\, United States
END:VEVENT
BEGIN:VEVENT
DTSTART;TZID=America/New_York:20230618T210000
DTEND;TZID=America/New_York:20230618T223000
DTSTAMP:20260425T192558
CREATED:20230617T080222Z
LAST-MODIFIED:20230617T080222Z
UID:4976-1687122000-1687127400@www.pallavigunalan.com
SUMMARY:NYC: Secret Pour
DESCRIPTION:
URL:https://www.pallavigunalan.com/event/nyc-secret-pour/
LOCATION:Secret Pour\, 1114 Dekalb Ave\, Brooklyn\, NY\, 11221\, United States
END:VEVENT
BEGIN:VEVENT
DTSTART;TZID=America/New_York:20230619T000000
DTEND;TZID=America/New_York:20230620T013000
DTSTAMP:20260425T192558
CREATED:20230619T221936Z
LAST-MODIFIED:20230619T221936Z
UID:4979-1687132800-1687224600@www.pallavigunalan.com
SUMMARY:NYC: Sunday Service
DESCRIPTION:
URL:https://www.pallavigunalan.com/event/nyc-sunday-service-2/
LOCATION:The Grisly Pear\, 107 Macdougal St\, New York\, NY\, 10012\, United States
END:VEVENT
BEGIN:VEVENT
DTSTART;TZID=America/Los_Angeles:20230619T200000
DTEND;TZID=America/Los_Angeles:20230619T213000
DTSTAMP:20260425T192558
CREATED:20230612T191601Z
LAST-MODIFIED:20230612T191601Z
UID:4935-1687204800-1687210200@www.pallavigunalan.com
SUMMARY:LA: Flappers Comedy Club
DESCRIPTION:
URL:https://www.pallavigunalan.com/event/la-flappers-comedy-club/
LOCATION:Flappers Comedy Club\, 102 E Magnolia Blvd\, Burbank\, CA\, 91502\, United States
END:VEVENT
BEGIN:VEVENT
DTSTART;TZID=America/Los_Angeles:20230621T200000
DTEND;TZID=America/Los_Angeles:20230621T213000
DTSTAMP:20260425T192558
CREATED:20230606T192835Z
LAST-MODIFIED:20230606T193112Z
UID:4919-1687377600-1687383000@www.pallavigunalan.com
SUMMARY:LA: The Comedy Nook
DESCRIPTION:
URL:https://www.pallavigunalan.com/event/la-the-comedy-nook/
LOCATION:The Comedy Nook\, 7456 Melrose Ave\, West Hollywood\, CA\, 90046\, United States
END:VEVENT
BEGIN:VEVENT
DTSTART;TZID=America/Los_Angeles:20230622T193000
DTEND;TZID=America/Los_Angeles:20230622T213000
DTSTAMP:20260425T192558
CREATED:20230620T225932Z
LAST-MODIFIED:20230620T225932Z
UID:4983-1687462200-1687469400@www.pallavigunalan.com
SUMMARY:LA: The Comedy Chateau
DESCRIPTION:
URL:https://www.pallavigunalan.com/event/la-the-comedy-chateau-18/
LOCATION:The Comedy Chateau\, 4615 Lankershim Blvd\, North Hollywood\, CA\, 91602\, United States
END:VEVENT
BEGIN:VEVENT
DTSTART;TZID=America/Los_Angeles:20230623T220000
DTEND;TZID=America/Los_Angeles:20230623T233000
DTSTAMP:20260425T192558
CREATED:20230620T225711Z
LAST-MODIFIED:20230620T225711Z
UID:4981-1687557600-1687563000@www.pallavigunalan.com
SUMMARY:LA: Westside Comedy Theater
DESCRIPTION:
URL:https://www.pallavigunalan.com/event/la-westside-comedy-theater-8/
LOCATION:Westside Comedy\, 1323-A 3rd St\, Santa Monica\, CA\, 90401\, United States
END:VEVENT
BEGIN:VEVENT
DTSTART;TZID=America/Los_Angeles:20230625T200000
DTEND;TZID=America/Los_Angeles:20230625T213000
DTSTAMP:20260425T192558
CREATED:20230530T204522Z
LAST-MODIFIED:20230530T204522Z
UID:4907-1687723200-1687728600@www.pallavigunalan.com
SUMMARY:LA: Westside Comedy Theater
DESCRIPTION:
URL:https://www.pallavigunalan.com/event/la-westside-comedy-theater-7/
LOCATION:Westside Comedy\, 1323-A 3rd St\, Santa Monica\, CA\, 90401\, United States
END:VEVENT
BEGIN:VEVENT
DTSTART;TZID=America/Los_Angeles:20230625T201500
DTEND;TZID=America/Los_Angeles:20230625T214500
DTSTAMP:20260425T192558
CREATED:20230613T061644Z
LAST-MODIFIED:20230620T225740Z
UID:4940-1687724100-1687729500@www.pallavigunalan.com
SUMMARY:LA: The Comedy Nook
DESCRIPTION:
URL:https://www.pallavigunalan.com/event/la-the-comedy-nook-2/
LOCATION:The Comedy Nook\, 7456 Melrose Ave\, West Hollywood\, CA\, 90046\, United States
END:VEVENT
BEGIN:VEVENT
DTSTART;TZID=America/Los_Angeles:20230627T200000
DTEND;TZID=America/Los_Angeles:20230627T213000
DTSTAMP:20260425T192558
CREATED:20230612T192913Z
LAST-MODIFIED:20230612T192913Z
UID:4937-1687896000-1687901400@www.pallavigunalan.com
SUMMARY:LA: High Note Comedy
DESCRIPTION:
URL:https://www.pallavigunalan.com/event/la-high-note-comedy/
LOCATION:HiDef Brewing Co\, 1203 S Olive St\, Los Angeles\, CA\, 90015\, United States
END:VEVENT
BEGIN:VEVENT
DTSTART;TZID=America/Los_Angeles:20230628T200000
DTEND;TZID=America/Los_Angeles:20230628T213000
DTSTAMP:20260425T192558
CREATED:20230521T235708Z
LAST-MODIFIED:20230521T235708Z
UID:4881-1687982400-1687987800@www.pallavigunalan.com
SUMMARY:LA: Birdhouse
DESCRIPTION:
URL:https://www.pallavigunalan.com/event/la-birdhouse/
LOCATION:ROCKBIRD\, 1147 E Colorado St\, Glendale\, 91205\, United States
END:VEVENT
BEGIN:VEVENT
DTSTART;TZID=America/Los_Angeles:20230630T200000
DTEND;TZID=America/Los_Angeles:20230630T213000
DTSTAMP:20260425T192558
CREATED:20230628T175320Z
LAST-MODIFIED:20230628T175320Z
UID:5022-1688155200-1688160600@www.pallavigunalan.com
SUMMARY:LA: Satrang Pride Night
DESCRIPTION:
URL:https://www.pallavigunalan.com/event/la-satrang-pride-night/
LOCATION:Los Angeles LGBTQ Center\, 1125 N McCadden Pl\, Los Angeles\, CA\, 90038\, United States
END:VEVENT
END:VCALENDAR