BEGIN:VCALENDAR
VERSION:2.0
PRODID:-//PALLAVI GUNALAN - ECPv6.15.17//NONSGML v1.0//EN
CALSCALE:GREGORIAN
METHOD:PUBLISH
X-ORIGINAL-URL:https://www.pallavigunalan.com
X-WR-CALDESC:Events for PALLAVI GUNALAN
REFRESH-INTERVAL;VALUE=DURATION:PT1H
X-Robots-Tag:noindex
X-PUBLISHED-TTL:PT1H
BEGIN:VTIMEZONE
TZID:America/Los_Angeles
BEGIN:DAYLIGHT
TZOFFSETFROM:-0800
TZOFFSETTO:-0700
TZNAME:PDT
DTSTART:20230312T100000
END:DAYLIGHT
BEGIN:STANDARD
TZOFFSETFROM:-0700
TZOFFSETTO:-0800
TZNAME:PST
DTSTART:20231105T090000
END:STANDARD
BEGIN:DAYLIGHT
TZOFFSETFROM:-0800
TZOFFSETTO:-0700
TZNAME:PDT
DTSTART:20240310T100000
END:DAYLIGHT
BEGIN:STANDARD
TZOFFSETFROM:-0700
TZOFFSETTO:-0800
TZNAME:PST
DTSTART:20241103T090000
END:STANDARD
BEGIN:DAYLIGHT
TZOFFSETFROM:-0800
TZOFFSETTO:-0700
TZNAME:PDT
DTSTART:20250309T100000
END:DAYLIGHT
BEGIN:STANDARD
TZOFFSETFROM:-0700
TZOFFSETTO:-0800
TZNAME:PST
DTSTART:20251102T090000
END:STANDARD
END:VTIMEZONE
BEGIN:VEVENT
DTSTART;TZID=America/Los_Angeles:20240229T210000
DTEND;TZID=America/Los_Angeles:20240229T220000
DTSTAMP:20260425T014141
CREATED:20240226T235550Z
LAST-MODIFIED:20240226T235550Z
UID:5326-1709240400-1709244000@www.pallavigunalan.com
SUMMARY:LA: The Get Brown (Sketch)
DESCRIPTION:
URL:https://www.pallavigunalan.com/event/la-the-get-brown-sketch/
LOCATION:UCB Franklin\, 5919 Franklin Ave\, Los Angeles\, CA\, 90028\, United States
END:VEVENT
BEGIN:VEVENT
DTSTART;TZID=America/Los_Angeles:20240307T170000
DTEND;TZID=America/Los_Angeles:20240307T183000
DTSTAMP:20260425T014141
CREATED:20240108T105549Z
LAST-MODIFIED:20240108T105549Z
UID:5303-1709830800-1709836200@www.pallavigunalan.com
SUMMARY:Virtual: Sahiyo's 2024 Women's Day Celebration & Silent Auction
DESCRIPTION:
URL:https://www.pallavigunalan.com/event/virtual-sahiyos-2024-womens-day-celebration-silent-auction/
LOCATION:CA
END:VEVENT
BEGIN:VEVENT
DTSTART;TZID=America/Los_Angeles:20240308T200000
DTEND;TZID=America/Los_Angeles:20240308T213000
DTSTAMP:20260425T014141
CREATED:20240226T235747Z
LAST-MODIFIED:20240226T235747Z
UID:5328-1709928000-1709933400@www.pallavigunalan.com
SUMMARY:LA: Flappers (Opening for Jay Leno)
DESCRIPTION:
URL:https://www.pallavigunalan.com/event/la-flappers-opening-for-jay-leno/
LOCATION:Flappers Comedy Club\, 102 E Magnolia Blvd\, Burbank\, CA\, 91502\, United States
END:VEVENT
BEGIN:VEVENT
DTSTART;TZID=America/Los_Angeles:20240314T190000
DTEND;TZID=America/Los_Angeles:20240314T203000
DTSTAMP:20260425T014141
CREATED:20240226T235925Z
LAST-MODIFIED:20240226T235925Z
UID:5330-1710442800-1710448200@www.pallavigunalan.com
SUMMARY:LA: Self-Help Me w/Jenny Yang
DESCRIPTION:
URL:https://www.pallavigunalan.com/event/la-self-help-me-w-jenny-yang/
LOCATION:Dynasty Typewriter At The Hayworth\, 2511 Wilshire Blvd\, Los Angeles\, CA\, 90057\, United States
END:VEVENT
BEGIN:VEVENT
DTSTART;TZID=America/Los_Angeles:20240319T200000
DTEND;TZID=America/Los_Angeles:20240319T213000
DTSTAMP:20260425T014141
CREATED:20240227T000504Z
LAST-MODIFIED:20240227T000504Z
UID:5332-1710878400-1710883800@www.pallavigunalan.com
SUMMARY:LA: Facial Recognition Comedy @ The Comedy Store
DESCRIPTION:
URL:https://www.pallavigunalan.com/event/la-facial-recognition-comedy-the-comedy-store-6/
LOCATION:The Comedy Store\, 8433 Sunset Blvd\, Los Angeles\, CA\, 90069\, United States
END:VEVENT
END:VCALENDAR