BEGIN:VCALENDAR
VERSION:2.0
PRODID:-//PALLAVI GUNALAN - ECPv6.15.17//NONSGML v1.0//EN
CALSCALE:GREGORIAN
METHOD:PUBLISH
X-WR-CALNAME:PALLAVI GUNALAN
X-ORIGINAL-URL:https://www.pallavigunalan.com
X-WR-CALDESC:Events for PALLAVI GUNALAN
REFRESH-INTERVAL;VALUE=DURATION:PT1H
X-Robots-Tag:noindex
X-PUBLISHED-TTL:PT1H
BEGIN:VTIMEZONE
TZID:America/Los_Angeles
BEGIN:DAYLIGHT
TZOFFSETFROM:-0800
TZOFFSETTO:-0700
TZNAME:PDT
DTSTART:20230312T100000
END:DAYLIGHT
BEGIN:STANDARD
TZOFFSETFROM:-0700
TZOFFSETTO:-0800
TZNAME:PST
DTSTART:20231105T090000
END:STANDARD
BEGIN:DAYLIGHT
TZOFFSETFROM:-0800
TZOFFSETTO:-0700
TZNAME:PDT
DTSTART:20240310T100000
END:DAYLIGHT
BEGIN:STANDARD
TZOFFSETFROM:-0700
TZOFFSETTO:-0800
TZNAME:PST
DTSTART:20241103T090000
END:STANDARD
BEGIN:DAYLIGHT
TZOFFSETFROM:-0800
TZOFFSETTO:-0700
TZNAME:PDT
DTSTART:20250309T100000
END:DAYLIGHT
BEGIN:STANDARD
TZOFFSETFROM:-0700
TZOFFSETTO:-0800
TZNAME:PST
DTSTART:20251102T090000
END:STANDARD
END:VTIMEZONE
BEGIN:VEVENT
DTSTART;TZID=America/Los_Angeles:20240531T200000
DTEND;TZID=America/Los_Angeles:20240531T213000
DTSTAMP:20260424T211342
CREATED:20240227T004749Z
LAST-MODIFIED:20240227T004749Z
UID:5336-1717185600-1717191000@www.pallavigunalan.com
SUMMARY:LA: South Asian AF
DESCRIPTION:
URL:https://www.pallavigunalan.com/event/la-south-asian-af-5/
LOCATION:The Elysian Theater\, 1944 Riverside Dr\, Los Angeles\, CA\, 90039\, United States
END:VEVENT
BEGIN:VEVENT
DTSTART;TZID=America/Los_Angeles:20240603T190000
DTEND;TZID=America/Los_Angeles:20240603T203000
DTSTAMP:20260424T211342
CREATED:20240530T211234Z
LAST-MODIFIED:20240530T211234Z
UID:5405-1717441200-1717446600@www.pallavigunalan.com
SUMMARY:LA: Crash This Party (Commencement Speeches)
DESCRIPTION:
URL:https://www.pallavigunalan.com/event/la-crash-this-party-commencement-speeches/
LOCATION:The Clubhouse\, 1607 N Vermont Ave\, Los Angeles\, CA\, 90027\, United States
END:VEVENT
BEGIN:VEVENT
DTSTART;TZID=America/Los_Angeles:20240606T193000
DTEND;TZID=America/Los_Angeles:20240606T210000
DTSTAMP:20260424T211342
CREATED:20240530T211123Z
LAST-MODIFIED:20240530T211123Z
UID:5403-1717702200-1717707600@www.pallavigunalan.com
SUMMARY:LA: Holy Shit Improv
DESCRIPTION:
URL:https://www.pallavigunalan.com/event/la-holy-shit-improv/
LOCATION:UCB Franklin\, 5919 Franklin Ave\, Los Angeles\, CA\, 90028\, United States
END:VEVENT
BEGIN:VEVENT
DTSTART;TZID=America/Los_Angeles:20240607T200000
DTEND;TZID=America/Los_Angeles:20240607T213000
DTSTAMP:20260424T211342
CREATED:20240725T031144Z
LAST-MODIFIED:20240725T031144Z
UID:5415-1717790400-1717795800@www.pallavigunalan.com
SUMMARY:LA: The Nitecap
DESCRIPTION:
URL:https://www.pallavigunalan.com/event/la-the-nitecap-6/
LOCATION:The Nitecap\, 2200 W Burbank Blvd STE B\, Burbank\, CA\, 91506\, United States
END:VEVENT
BEGIN:VEVENT
DTSTART;TZID=America/Los_Angeles:20240607T220000
DTEND;TZID=America/Los_Angeles:20240607T233000
DTSTAMP:20260424T211342
CREATED:20240725T031220Z
LAST-MODIFIED:20240725T031220Z
UID:5417-1717797600-1717803000@www.pallavigunalan.com
SUMMARY:LA: Westside Comedy Theater
DESCRIPTION:
URL:https://www.pallavigunalan.com/event/la-westside-comedy-theater-18/
LOCATION:Westside Comedy\, 1323-A 3rd St\, Santa Monica\, CA\, 90401\, United States
END:VEVENT
BEGIN:VEVENT
DTSTART;TZID=America/Los_Angeles:20240608T193000
DTEND;TZID=America/Los_Angeles:20240608T210000
DTSTAMP:20260424T211342
CREATED:20240725T031301Z
LAST-MODIFIED:20240725T031301Z
UID:5419-1717875000-1717880400@www.pallavigunalan.com
SUMMARY:LA: Frogtown Comedy
DESCRIPTION:
URL:https://www.pallavigunalan.com/event/la-frogtown-comedy/
LOCATION:Spoke Bicycle Cafe\, 3050 N Coolidge Ave\, Los Angeles\, CA\, 90039\, United States
END:VEVENT
BEGIN:VEVENT
DTSTART;TZID=America/Los_Angeles:20240612T200000
DTEND;TZID=America/Los_Angeles:20240612T213000
DTSTAMP:20260424T211342
CREATED:20240410T150606Z
LAST-MODIFIED:20240530T201254Z
UID:5378-1718222400-1718227800@www.pallavigunalan.com
SUMMARY:LA: Hot Tub
DESCRIPTION:
URL:https://www.pallavigunalan.com/event/la-hot-tub-2/
LOCATION:Permanent Records Roadhouse\, 1906 Cypress Ave\, Los Angeles\, CA\, 90065\, United States
END:VEVENT
BEGIN:VEVENT
DTSTART;TZID=America/Los_Angeles:20240613T200000
DTEND;TZID=America/Los_Angeles:20240613T213000
DTSTAMP:20260424T211342
CREATED:20240725T031347Z
LAST-MODIFIED:20240725T031347Z
UID:5421-1718308800-1718314200@www.pallavigunalan.com
SUMMARY:LA: Peacock Comedy
DESCRIPTION:
URL:https://www.pallavigunalan.com/event/la-peacock-comedy/
LOCATION:Club Tee Gee\, 3210 Glendale Blvd\, Los Angeles\, CA\, 90039\, United States
END:VEVENT
BEGIN:VEVENT
DTSTART;TZID=America/Los_Angeles:20240615T203000
DTEND;TZID=America/Los_Angeles:20240615T220000
DTSTAMP:20260424T211342
CREATED:20240405T233455Z
LAST-MODIFIED:20240405T233455Z
UID:5375-1718483400-1718488800@www.pallavigunalan.com
SUMMARY:Santa Ana: Orange County Improv Fest
DESCRIPTION:
URL:https://www.pallavigunalan.com/event/santa-ana-orange-county-improv-fest/
LOCATION:The Frida Cinema\, 305 E #4th Street\, Santa Ana\, CA\, 92701\, United States
END:VEVENT
BEGIN:VEVENT
DTSTART;TZID=America/Los_Angeles:20240618T200000
DTEND;TZID=America/Los_Angeles:20240618T213000
DTSTAMP:20260424T211342
CREATED:20240405T093327Z
LAST-MODIFIED:20240410T150239Z
UID:5367-1718740800-1718746200@www.pallavigunalan.com
SUMMARY:LA: Facial Recognition Comedy @ The Comedy Store
DESCRIPTION:
URL:https://www.pallavigunalan.com/event/la-facial-recognition-comedy-the-comedy-store-9/
LOCATION:The Comedy Store\, 8433 Sunset Blvd\, Los Angeles\, CA\, 90069\, United States
END:VEVENT
BEGIN:VEVENT
DTSTART;TZID=America/Los_Angeles:20240622T193000
DTEND;TZID=America/Los_Angeles:20240622T210000
DTSTAMP:20260424T211342
CREATED:20240530T201538Z
LAST-MODIFIED:20240530T201606Z
UID:5396-1719084600-1719090000@www.pallavigunalan.com
SUMMARY:LA: The Comedy Chateau
DESCRIPTION:Free tickets with promo code “PALLAVI” all caps!
URL:https://www.pallavigunalan.com/event/la-the-comedy-chateau-38/
LOCATION:The Comedy Chateau\, 4615 Lankershim Blvd\, North Hollywood\, CA\, 91602\, United States
END:VEVENT
BEGIN:VEVENT
DTSTART;TZID=America/Los_Angeles:20240623T180000
DTEND;TZID=America/Los_Angeles:20240623T200000
DTSTAMP:20260424T211342
CREATED:20240531T161943Z
LAST-MODIFIED:20240531T161943Z
UID:5407-1719165600-1719172800@www.pallavigunalan.com
SUMMARY:LA: Opening for Sammy Obeid
DESCRIPTION:
URL:https://www.pallavigunalan.com/event/la-opening-for-sammy-obeid/
LOCATION:DAF Studios\, 2234 West Temple Street\, Los Angeles\, CA\, 90026\, United States
END:VEVENT
BEGIN:VEVENT
DTSTART;TZID=America/Los_Angeles:20240626T200000
DTEND;TZID=America/Los_Angeles:20240626T213000
DTSTAMP:20260424T211342
CREATED:20240725T031602Z
LAST-MODIFIED:20240725T031602Z
UID:5423-1719432000-1719437400@www.pallavigunalan.com
SUMMARY:LA: The Setup
DESCRIPTION:
URL:https://www.pallavigunalan.com/event/la-the-setup-2/
LOCATION:The Setup @ Citizen Public\, 9355 Culver Blvd\, Los Angeles\, CA\, 90232\, United States
END:VEVENT
BEGIN:VEVENT
DTSTART;TZID=America/Los_Angeles:20240626T203000
DTEND;TZID=America/Los_Angeles:20240626T220000
DTSTAMP:20260424T211342
CREATED:20240725T031714Z
LAST-MODIFIED:20240725T031714Z
UID:5426-1719433800-1719439200@www.pallavigunalan.com
SUMMARY:LA: Big Sour Hour
DESCRIPTION:
URL:https://www.pallavigunalan.com/event/la-big-sour-hour/
LOCATION:The High Low\, 3000 Los Feliz Blvd\, Los Angeles\, CA\, 90039\, United States
END:VEVENT
BEGIN:VEVENT
DTSTART;TZID=America/Los_Angeles:20240629T180000
DTEND;TZID=America/Los_Angeles:20240629T190000
DTSTAMP:20260424T211342
CREATED:20240725T031831Z
LAST-MODIFIED:20240725T031831Z
UID:5429-1719684000-1719687600@www.pallavigunalan.com
SUMMARY:LA: Satrang Pride
DESCRIPTION:
URL:https://www.pallavigunalan.com/event/la-satrang-pride/
LOCATION:5555 Washington Blvd\, 5555 Washington Blvd\, Los Angeles\, CA\, 90016\, United States
END:VEVENT
BEGIN:VEVENT
DTSTART;TZID=America/Los_Angeles:20240630T180000
DTEND;TZID=America/Los_Angeles:20240630T193000
DTSTAMP:20260424T211342
CREATED:20240530T210705Z
LAST-MODIFIED:20240530T210705Z
UID:5401-1719770400-1719775800@www.pallavigunalan.com
SUMMARY:LA: Comedian Feud
DESCRIPTION:
URL:https://www.pallavigunalan.com/event/la-comedian-feud-2/
LOCATION:The Elysian Theater\, 1944 Riverside Dr\, Los Angeles\, CA\, 90039\, United States
END:VEVENT
END:VCALENDAR