BEGIN:VCALENDAR
VERSION:2.0
PRODID:-//PALLAVI GUNALAN - ECPv6.15.17//NONSGML v1.0//EN
CALSCALE:GREGORIAN
METHOD:PUBLISH
X-ORIGINAL-URL:https://www.pallavigunalan.com
X-WR-CALDESC:Events for PALLAVI GUNALAN
REFRESH-INTERVAL;VALUE=DURATION:PT1H
X-Robots-Tag:noindex
X-PUBLISHED-TTL:PT1H
BEGIN:VTIMEZONE
TZID:America/Los_Angeles
BEGIN:DAYLIGHT
TZOFFSETFROM:-0800
TZOFFSETTO:-0700
TZNAME:PDT
DTSTART:20230312T100000
END:DAYLIGHT
BEGIN:STANDARD
TZOFFSETFROM:-0700
TZOFFSETTO:-0800
TZNAME:PST
DTSTART:20231105T090000
END:STANDARD
BEGIN:DAYLIGHT
TZOFFSETFROM:-0800
TZOFFSETTO:-0700
TZNAME:PDT
DTSTART:20240310T100000
END:DAYLIGHT
BEGIN:STANDARD
TZOFFSETFROM:-0700
TZOFFSETTO:-0800
TZNAME:PST
DTSTART:20241103T090000
END:STANDARD
BEGIN:DAYLIGHT
TZOFFSETFROM:-0800
TZOFFSETTO:-0700
TZNAME:PDT
DTSTART:20250309T100000
END:DAYLIGHT
BEGIN:STANDARD
TZOFFSETFROM:-0700
TZOFFSETTO:-0800
TZNAME:PST
DTSTART:20251102T090000
END:STANDARD
END:VTIMEZONE
BEGIN:VTIMEZONE
TZID:America/Chicago
BEGIN:DAYLIGHT
TZOFFSETFROM:-0600
TZOFFSETTO:-0500
TZNAME:CDT
DTSTART:20230312T080000
END:DAYLIGHT
BEGIN:STANDARD
TZOFFSETFROM:-0500
TZOFFSETTO:-0600
TZNAME:CST
DTSTART:20231105T070000
END:STANDARD
BEGIN:DAYLIGHT
TZOFFSETFROM:-0600
TZOFFSETTO:-0500
TZNAME:CDT
DTSTART:20240310T080000
END:DAYLIGHT
BEGIN:STANDARD
TZOFFSETFROM:-0500
TZOFFSETTO:-0600
TZNAME:CST
DTSTART:20241103T070000
END:STANDARD
BEGIN:DAYLIGHT
TZOFFSETFROM:-0600
TZOFFSETTO:-0500
TZNAME:CDT
DTSTART:20250309T080000
END:DAYLIGHT
BEGIN:STANDARD
TZOFFSETFROM:-0500
TZOFFSETTO:-0600
TZNAME:CST
DTSTART:20251102T070000
END:STANDARD
END:VTIMEZONE
BEGIN:VEVENT
DTSTART;TZID=America/Los_Angeles:20240802T210000
DTEND;TZID=America/Los_Angeles:20240802T223000
DTSTAMP:20260424T175918
CREATED:20240725T033014Z
LAST-MODIFIED:20240725T033014Z
UID:5442-1722632400-1722637800@www.pallavigunalan.com
SUMMARY:LA: Backyard Comedy
DESCRIPTION:
URL:https://www.pallavigunalan.com/event/la-backyard-comedy/
LOCATION:776 S Los Robles\, 776 S Los Robles Ave\, Pasadena\, CA\, 91106\, United States
END:VEVENT
BEGIN:VEVENT
DTSTART;TZID=America/Los_Angeles:20240809T193000
DTEND;TZID=America/Los_Angeles:20240809T210000
DTSTAMP:20260424T175918
CREATED:20240725T033051Z
LAST-MODIFIED:20240725T033051Z
UID:5445-1723231800-1723237200@www.pallavigunalan.com
SUMMARY:LA: The Comedy Chateau
DESCRIPTION:
URL:https://www.pallavigunalan.com/event/la-the-comedy-chateau-39/
LOCATION:The Comedy Chateau\, 4615 Lankershim Blvd\, North Hollywood\, CA\, 91602\, United States
END:VEVENT
BEGIN:VEVENT
DTSTART;TZID=America/Los_Angeles:20240816T200000
DTEND;TZID=America/Los_Angeles:20240816T213000
DTSTAMP:20260424T175918
CREATED:20240727T030255Z
LAST-MODIFIED:20240727T053654Z
UID:5452-1723838400-1723843800@www.pallavigunalan.com
SUMMARY:LA: Westside Comedy Theater
DESCRIPTION:
URL:https://www.pallavigunalan.com/event/show-westside-comedy-theater/
LOCATION:Westside Comedy\, 1323-A 3rd St\, Santa Monica\, CA\, 90401\, United States
END:VEVENT
BEGIN:VEVENT
DTSTART;TZID=America/Chicago:20240819T200000
DTEND;TZID=America/Chicago:20240819T213000
DTSTAMP:20260424T175918
CREATED:20240727T054636Z
LAST-MODIFIED:20240727T054636Z
UID:5457-1724097600-1724103000@www.pallavigunalan.com
SUMMARY:Chicago: The Comedy Bar
DESCRIPTION:
URL:https://www.pallavigunalan.com/event/chicago-the-comedy-bar/
LOCATION:The Comedy Bar – Chicago\, 162 E Superior St\, Chicago\, IL\, 60611\, United States
END:VEVENT
BEGIN:VEVENT
DTSTART;TZID=America/Chicago:20240823T193000
DTEND;TZID=America/Chicago:20240823T210000
DTSTAMP:20260424T175918
CREATED:20240826T183748Z
LAST-MODIFIED:20240826T183748Z
UID:5470-1724441400-1724446800@www.pallavigunalan.com
SUMMARY:Chicago: The Comedy Bar (Opening for Melissa Shoshahi)
DESCRIPTION:
URL:https://www.pallavigunalan.com/event/chicago-the-comedy-bar-opening-for-melissa-shoshahi/
LOCATION:The Comedy Bar – Chicago\, 162 E Superior St\, Chicago\, IL\, 60611\, United States
END:VEVENT
BEGIN:VEVENT
DTSTART;TZID=America/Chicago:20240823T213000
DTEND;TZID=America/Chicago:20240823T230000
DTSTAMP:20260424T175918
CREATED:20240826T183812Z
LAST-MODIFIED:20240826T183812Z
UID:5472-1724448600-1724454000@www.pallavigunalan.com
SUMMARY:Chicago: The Comedy Bar (Opening for Melissa Shoshahi)
DESCRIPTION:
URL:https://www.pallavigunalan.com/event/chicago-the-comedy-bar-opening-for-melissa-shoshahi-2/
LOCATION:The Comedy Bar – Chicago\, 162 E Superior St\, Chicago\, IL\, 60611\, United States
END:VEVENT
BEGIN:VEVENT
DTSTART;TZID=America/Chicago:20240823T214500
DTEND;TZID=America/Chicago:20240823T231500
DTSTAMP:20260424T175918
CREATED:20240727T054816Z
LAST-MODIFIED:20240727T054816Z
UID:5461-1724449500-1724454900@www.pallavigunalan.com
SUMMARY:Chicago: The Comedy Clubhouse
DESCRIPTION:
URL:https://www.pallavigunalan.com/event/chicago-the-comedy-clubhouse/
LOCATION:The Comedy Clubhouse – Chicago\, 1462 N Ashland Ave\, Chicago\, IL\, 60622\, United States
END:VEVENT
BEGIN:VEVENT
DTSTART;TZID=America/Los_Angeles:20240828T200000
DTEND;TZID=America/Los_Angeles:20240828T213000
DTSTAMP:20260424T175918
CREATED:20240826T183654Z
LAST-MODIFIED:20240826T183654Z
UID:5468-1724875200-1724880600@www.pallavigunalan.com
SUMMARY:LA: Naughty but Nerdy
DESCRIPTION:
URL:https://www.pallavigunalan.com/event/la-naughty-but-nerdy-2/
LOCATION:The Crow\, 2525 Michigan Ave Unit F4\, Santa Monica\, CA\, 90404\, United States
END:VEVENT
END:VCALENDAR