BEGIN:VCALENDAR
VERSION:2.0
PRODID:-//PALLAVI GUNALAN - ECPv6.15.17//NONSGML v1.0//EN
CALSCALE:GREGORIAN
METHOD:PUBLISH
X-WR-CALNAME:PALLAVI GUNALAN
X-ORIGINAL-URL:https://www.pallavigunalan.com
X-WR-CALDESC:Events for PALLAVI GUNALAN
REFRESH-INTERVAL;VALUE=DURATION:PT1H
X-Robots-Tag:noindex
X-PUBLISHED-TTL:PT1H
BEGIN:VTIMEZONE
TZID:America/Los_Angeles
BEGIN:DAYLIGHT
TZOFFSETFROM:-0800
TZOFFSETTO:-0700
TZNAME:PDT
DTSTART:20230312T100000
END:DAYLIGHT
BEGIN:STANDARD
TZOFFSETFROM:-0700
TZOFFSETTO:-0800
TZNAME:PST
DTSTART:20231105T090000
END:STANDARD
BEGIN:DAYLIGHT
TZOFFSETFROM:-0800
TZOFFSETTO:-0700
TZNAME:PDT
DTSTART:20240310T100000
END:DAYLIGHT
BEGIN:STANDARD
TZOFFSETFROM:-0700
TZOFFSETTO:-0800
TZNAME:PST
DTSTART:20241103T090000
END:STANDARD
BEGIN:DAYLIGHT
TZOFFSETFROM:-0800
TZOFFSETTO:-0700
TZNAME:PDT
DTSTART:20250309T100000
END:DAYLIGHT
BEGIN:STANDARD
TZOFFSETFROM:-0700
TZOFFSETTO:-0800
TZNAME:PST
DTSTART:20251102T090000
END:STANDARD
END:VTIMEZONE
BEGIN:VEVENT
DTSTART;TZID=America/Los_Angeles:20240906T193000
DTEND;TZID=America/Los_Angeles:20240906T210000
DTSTAMP:20260424T163749
CREATED:20240828T082552Z
LAST-MODIFIED:20240828T082552Z
UID:5478-1725651000-1725656400@www.pallavigunalan.com
SUMMARY:LA: Flappers Comedy Club
DESCRIPTION:
URL:https://www.pallavigunalan.com/event/la-flappers-comedy-club-4/
LOCATION:Flappers Comedy Club\, 102 E Magnolia Blvd\, Burbank\, CA\, 91502\, United States
END:VEVENT
BEGIN:VEVENT
DTSTART;TZID=America/Los_Angeles:20240906T200000
DTEND;TZID=America/Los_Angeles:20240906T213000
DTSTAMP:20260424T163749
CREATED:20240913T032741Z
LAST-MODIFIED:20240913T032741Z
UID:5481-1725652800-1725658200@www.pallavigunalan.com
SUMMARY:LA: Flappers (Opening for Jay Leno)
DESCRIPTION:
URL:https://www.pallavigunalan.com/event/la-flappers-opening-for-jay-leno-2/
LOCATION:Flappers Comedy Club\, 102 E Magnolia Blvd\, Burbank\, CA\, 91502\, United States
END:VEVENT
BEGIN:VEVENT
DTSTART;TZID=America/Los_Angeles:20240913T200000
DTEND;TZID=America/Los_Angeles:20240913T213000
DTSTAMP:20260424T163749
CREATED:20240826T204232Z
LAST-MODIFIED:20240826T204232Z
UID:5476-1726257600-1726263000@www.pallavigunalan.com
SUMMARY:LA: Westside Comedy Theater
DESCRIPTION:
URL:https://www.pallavigunalan.com/event/la-westside-comedy-theater-19/
LOCATION:Westside Comedy\, 1323-A 3rd St\, Santa Monica\, CA\, 90401\, United States
END:VEVENT
BEGIN:VEVENT
DTSTART;TZID=America/Los_Angeles:20240917T203000
DTEND;TZID=America/Los_Angeles:20240917T223000
DTSTAMP:20260424T163749
CREATED:20240918T193736Z
LAST-MODIFIED:20240918T193736Z
UID:5491-1726605000-1726612200@www.pallavigunalan.com
SUMMARY:LA: Best Fish Taco
DESCRIPTION:
URL:https://www.pallavigunalan.com/event/la-best-fish-taco/
LOCATION:Best Fish Taco\, 1650 Hillhurst Ave\, Los Angeles\, CA\, 90027\, United States
END:VEVENT
BEGIN:VEVENT
DTSTART;TZID=America/Los_Angeles:20240918T193000
DTEND;TZID=America/Los_Angeles:20240918T210000
DTSTAMP:20260424T163749
CREATED:20240913T032819Z
LAST-MODIFIED:20240918T194406Z
UID:5483-1726687800-1726693200@www.pallavigunalan.com
SUMMARY:Covina: Chismos Cafe
DESCRIPTION:
URL:https://www.pallavigunalan.com/event/covina-chismos-cafe/
LOCATION:CA
END:VEVENT
BEGIN:VEVENT
DTSTART;TZID=America/Los_Angeles:20240919T200000
DTEND;TZID=America/Los_Angeles:20240919T213000
DTSTAMP:20260424T163749
CREATED:20240918T194239Z
LAST-MODIFIED:20240918T194239Z
UID:5496-1726776000-1726781400@www.pallavigunalan.com
SUMMARY:LA: Westside Comedy Theater
DESCRIPTION:
URL:https://www.pallavigunalan.com/event/la-westside-comedy-theater-20/
LOCATION:Westside Comedy\, 1323-A 3rd St\, Santa Monica\, CA\, 90401\, United States
END:VEVENT
BEGIN:VEVENT
DTSTART;TZID=America/Los_Angeles:20240920T223000
DTEND;TZID=America/Los_Angeles:20240921T000000
DTSTAMP:20260424T163749
CREATED:20240727T053744Z
LAST-MODIFIED:20240727T053744Z
UID:5455-1726871400-1726876800@www.pallavigunalan.com
SUMMARY:LA: Facial Recognition Comedy @ The Comedy Store
DESCRIPTION:
URL:https://www.pallavigunalan.com/event/la-facial-recognition-comedy-the-comedy-store-11/
LOCATION:The Comedy Store\, 8433 Sunset Blvd\, Los Angeles\, CA\, 90069\, United States
END:VEVENT
BEGIN:VEVENT
DTSTART;TZID=America/Los_Angeles:20240922T200000
DTEND;TZID=America/Los_Angeles:20240922T213000
DTSTAMP:20260424T163749
CREATED:20240918T193539Z
LAST-MODIFIED:20240918T193539Z
UID:5489-1727035200-1727040600@www.pallavigunalan.com
SUMMARY:Covina: Chatterbox Comedy
DESCRIPTION:
URL:https://www.pallavigunalan.com/event/covina-chatterbox-comedy/
LOCATION:Chatterbox\, 943 N Citrus Ave\, Covina\, CA\, 91722\, United States
END:VEVENT
BEGIN:VEVENT
DTSTART;TZID=America/Los_Angeles:20240923T191500
DTEND;TZID=America/Los_Angeles:20240923T204500
DTSTAMP:20260424T163749
CREATED:20240913T034423Z
LAST-MODIFIED:20240913T034423Z
UID:5485-1727118900-1727124300@www.pallavigunalan.com
SUMMARY:LA: Opening for Curtis Cook
DESCRIPTION:
URL:https://www.pallavigunalan.com/event/la-opening-for-curtis-cook/
LOCATION:The Lyric Hyperion\, 2106 Hyperion Avenue\, Los Angeles\, CA\, 90027\, United States
END:VEVENT
END:VCALENDAR