BEGIN:VCALENDAR
VERSION:2.0
PRODID:-//PALLAVI GUNALAN - ECPv6.15.17//NONSGML v1.0//EN
CALSCALE:GREGORIAN
METHOD:PUBLISH
X-WR-CALNAME:PALLAVI GUNALAN
X-ORIGINAL-URL:https://www.pallavigunalan.com
X-WR-CALDESC:Events for PALLAVI GUNALAN
REFRESH-INTERVAL;VALUE=DURATION:PT1H
X-Robots-Tag:noindex
X-PUBLISHED-TTL:PT1H
BEGIN:VTIMEZONE
TZID:America/Los_Angeles
BEGIN:DAYLIGHT
TZOFFSETFROM:-0800
TZOFFSETTO:-0700
TZNAME:PDT
DTSTART:20230312T100000
END:DAYLIGHT
BEGIN:STANDARD
TZOFFSETFROM:-0700
TZOFFSETTO:-0800
TZNAME:PST
DTSTART:20231105T090000
END:STANDARD
BEGIN:DAYLIGHT
TZOFFSETFROM:-0800
TZOFFSETTO:-0700
TZNAME:PDT
DTSTART:20240310T100000
END:DAYLIGHT
BEGIN:STANDARD
TZOFFSETFROM:-0700
TZOFFSETTO:-0800
TZNAME:PST
DTSTART:20241103T090000
END:STANDARD
BEGIN:DAYLIGHT
TZOFFSETFROM:-0800
TZOFFSETTO:-0700
TZNAME:PDT
DTSTART:20250309T100000
END:DAYLIGHT
BEGIN:STANDARD
TZOFFSETFROM:-0700
TZOFFSETTO:-0800
TZNAME:PST
DTSTART:20251102T090000
END:STANDARD
END:VTIMEZONE
BEGIN:VTIMEZONE
TZID:America/Mexico_City
BEGIN:DAYLIGHT
TZOFFSETFROM:-0600
TZOFFSETTO:-0500
TZNAME:CDT
DTSTART:20230402T080000
END:DAYLIGHT
BEGIN:STANDARD
TZOFFSETFROM:-0500
TZOFFSETTO:-0600
TZNAME:CST
DTSTART:20231029T070000
END:STANDARD
BEGIN:DAYLIGHT
TZOFFSETFROM:-0600
TZOFFSETTO:-0500
TZNAME:CDT
DTSTART:20240407T080000
END:DAYLIGHT
BEGIN:STANDARD
TZOFFSETFROM:-0500
TZOFFSETTO:-0600
TZNAME:CST
DTSTART:20241027T070000
END:STANDARD
BEGIN:DAYLIGHT
TZOFFSETFROM:-0600
TZOFFSETTO:-0500
TZNAME:CDT
DTSTART:20250406T080000
END:DAYLIGHT
BEGIN:STANDARD
TZOFFSETFROM:-0500
TZOFFSETTO:-0600
TZNAME:CST
DTSTART:20251026T070000
END:STANDARD
END:VTIMEZONE
BEGIN:VEVENT
DTSTART;TZID=America/Los_Angeles:20241101T180000
DTEND;TZID=America/Los_Angeles:20241101T193000
DTSTAMP:20260424T140714
CREATED:20241101T221627Z
LAST-MODIFIED:20241101T221627Z
UID:5552-1730484000-1730489400@www.pallavigunalan.com
SUMMARY:Zoom: Naked Comedy (Deanne Smith & Friends)
DESCRIPTION:
URL:https://www.pallavigunalan.com/event/zoom-naked-comedy-deanne-smith-friends/
LOCATION:CA
END:VEVENT
BEGIN:VEVENT
DTSTART;TZID=America/Los_Angeles:20241101T200000
DTEND;TZID=America/Los_Angeles:20241101T211500
DTSTAMP:20260424T140714
CREATED:20241101T221951Z
LAST-MODIFIED:20241101T221951Z
UID:5554-1730491200-1730495700@www.pallavigunalan.com
SUMMARY:LA: Gaza Fundraiser Comedy + Music Show
DESCRIPTION:
URL:https://www.pallavigunalan.com/event/la-gaza-fundraiser-comedy-music-show/
LOCATION:Astralab\, 678 La Fayette Park Pl\, Los Angeles\, CA\, 90057\, United States
END:VEVENT
BEGIN:VEVENT
DTSTART;TZID=America/Los_Angeles:20241103T193000
DTEND;TZID=America/Los_Angeles:20241103T210000
DTSTAMP:20260424T140714
CREATED:20241011T105716Z
LAST-MODIFIED:20241011T105716Z
UID:5528-1730662200-1730667600@www.pallavigunalan.com
SUMMARY:LA: The Comedy Chateau
DESCRIPTION:
URL:https://www.pallavigunalan.com/event/la-the-comedy-chateau-40/
LOCATION:The Comedy Chateau\, 4615 Lankershim Blvd\, North Hollywood\, CA\, 91602\, United States
END:VEVENT
BEGIN:VEVENT
DTSTART;TZID=America/Los_Angeles:20241104T193000
DTEND;TZID=America/Los_Angeles:20241104T210000
DTSTAMP:20260424T140714
CREATED:20241101T222128Z
LAST-MODIFIED:20241101T222128Z
UID:5557-1730748600-1730754000@www.pallavigunalan.com
SUMMARY:LA: The Good Nite
DESCRIPTION:
URL:https://www.pallavigunalan.com/event/la-the-good-nite-2/
LOCATION:The Good Nite\, 10721 Burbank Blvd\, North Hollywood\, CA\, 91601\, United States
END:VEVENT
BEGIN:VEVENT
DTSTART;TZID=America/Los_Angeles:20241105T200000
DTEND;TZID=America/Los_Angeles:20241105T213000
DTSTAMP:20260424T140714
CREATED:20241115T093127Z
LAST-MODIFIED:20241115T093127Z
UID:5593-1730836800-1730842200@www.pallavigunalan.com
SUMMARY:LA: Flappers
DESCRIPTION:
URL:https://www.pallavigunalan.com/event/la-flappers-16/
LOCATION:Flappers Comedy Club\, 102 E Magnolia Blvd\, Burbank\, CA\, 91502\, United States
END:VEVENT
BEGIN:VEVENT
DTSTART;TZID=America/Los_Angeles:20241106T190000
DTEND;TZID=America/Los_Angeles:20241106T203000
DTSTAMP:20260424T140714
CREATED:20241104T203432Z
LAST-MODIFIED:20241104T203432Z
UID:5561-1730919600-1730925000@www.pallavigunalan.com
SUMMARY:LA: Hotel Café
DESCRIPTION:
URL:https://www.pallavigunalan.com/event/la-hotel-cafe/
LOCATION:Hotel Cafe\, 1623 N Cahuenga Blvd\, Los Angeles\, CA\, 90028\, United States
END:VEVENT
BEGIN:VEVENT
DTSTART;TZID=America/Los_Angeles:20241108T193000
DTEND;TZID=America/Los_Angeles:20241108T210000
DTSTAMP:20260424T140714
CREATED:20241011T192101Z
LAST-MODIFIED:20241011T192109Z
UID:5534-1731094200-1731099600@www.pallavigunalan.com
SUMMARY:LA: Salty AF @ The Hollywood Improv
DESCRIPTION:
URL:https://www.pallavigunalan.com/event/la-the-hollywood-improv-4/
LOCATION:Hollywood Improv\, 8162 Melrose Ave\, Los Angeles\, CA\, 90046\, United States
END:VEVENT
BEGIN:VEVENT
DTSTART;TZID=America/Los_Angeles:20241109T180000
DTEND;TZID=America/Los_Angeles:20241109T193000
DTSTAMP:20260424T140714
CREATED:20241104T203344Z
LAST-MODIFIED:20241104T203344Z
UID:5559-1731175200-1731180600@www.pallavigunalan.com
SUMMARY:LA: Westside Comedy Theater
DESCRIPTION:
URL:https://www.pallavigunalan.com/event/la-westside-comedy-theater-21/
LOCATION:Westside Comedy\, 1323-A 3rd St\, Santa Monica\, CA\, 90401\, United States
END:VEVENT
BEGIN:VEVENT
DTSTART;TZID=America/Los_Angeles:20241109T193000
DTEND;TZID=America/Los_Angeles:20241109T210000
DTSTAMP:20260424T140714
CREATED:20241011T105748Z
LAST-MODIFIED:20241011T105748Z
UID:5530-1731180600-1731186000@www.pallavigunalan.com
SUMMARY:LA: The Comedy Chateau
DESCRIPTION:
URL:https://www.pallavigunalan.com/event/la-the-comedy-chateau-41/
LOCATION:CA
END:VEVENT
BEGIN:VEVENT
DTSTART;TZID=America/Los_Angeles:20241113T203000
DTEND;TZID=America/Los_Angeles:20241113T220000
DTSTAMP:20260424T140714
CREATED:20241110T002911Z
LAST-MODIFIED:20241110T002911Z
UID:5591-1731529800-1731535200@www.pallavigunalan.com
SUMMARY:LA: Big Sour Hour (Improv)
DESCRIPTION:
URL:https://www.pallavigunalan.com/event/la-big-sour-hour-improv/
LOCATION:The High Low\, 3000 Los Feliz Blvd\, Los Angeles\, CA\, 90039\, United States
END:VEVENT
BEGIN:VEVENT
DTSTART;TZID=America/Los_Angeles:20241114T200000
DTEND;TZID=America/Los_Angeles:20241114T213000
DTSTAMP:20260424T140714
CREATED:20241106T204317Z
LAST-MODIFIED:20241106T204317Z
UID:5563-1731614400-1731619800@www.pallavigunalan.com
SUMMARY:Irvine: The Irvine Improv
DESCRIPTION:
URL:https://www.pallavigunalan.com/event/irvine-the-irvine-improv/
LOCATION:Irvine Improv Comedy Club\, 527 Spectrum Center Dr\, Irvine\, CA\, 92618\, United States
END:VEVENT
BEGIN:VEVENT
DTSTART;TZID=America/Los_Angeles:20241115T223000
DTEND;TZID=America/Los_Angeles:20241116T000000
DTSTAMP:20260424T140714
CREATED:20241007T190209Z
LAST-MODIFIED:20241007T190808Z
UID:5515-1731709800-1731715200@www.pallavigunalan.com
SUMMARY:LA: Facial Recognition Comedy @ The Comedy Store
DESCRIPTION:Pallavi Gunalan\nFizaa Dosani\nZahra Ali\nReem Edan
URL:https://www.pallavigunalan.com/event/la-facial-recognition-comedy-the-comedy-store-12/
LOCATION:The Comedy Store\, 8433 Sunset Blvd\, Los Angeles\, CA\, 90069\, United States
END:VEVENT
BEGIN:VEVENT
DTSTART;TZID=America/Los_Angeles:20241116T190000
DTEND;TZID=America/Los_Angeles:20241116T203000
DTSTAMP:20260424T140714
CREATED:20241106T204541Z
LAST-MODIFIED:20241106T204555Z
UID:5565-1731783600-1731789000@www.pallavigunalan.com
SUMMARY:Bakersfield: The Well Comedy Club
DESCRIPTION:
URL:https://www.pallavigunalan.com/event/bakersfield-the-well-comedy-club/
LOCATION:The Well Comedy Club\, 7401 White Lane\, Bakersfield\, CA\, 93309\, United States
END:VEVENT
BEGIN:VEVENT
DTSTART;TZID=America/Los_Angeles:20241119T193000
DTEND;TZID=America/Los_Angeles:20241119T210000
DTSTAMP:20260424T140714
CREATED:20241007T214919Z
LAST-MODIFIED:20241007T214919Z
UID:5521-1732044600-1732050000@www.pallavigunalan.com
SUMMARY:LA: Last Call Comedy
DESCRIPTION:
URL:https://www.pallavigunalan.com/event/la-last-call-comedy-2/
LOCATION:Arts District Brewing Company\, 828 Traction Ave\, Los Angeles\, CA\, 90013\, United States
END:VEVENT
BEGIN:VEVENT
DTSTART;TZID=America/Mexico_City:20241120T183000
DTEND;TZID=America/Mexico_City:20241120T200000
DTSTAMP:20260424T140714
CREATED:20241107T001902Z
LAST-MODIFIED:20241107T001902Z
UID:5568-1732127400-1732132800@www.pallavigunalan.com
SUMMARY:Austin: Cap City Comedy Club
DESCRIPTION:Guest Spot for Sammy Obeid
URL:https://www.pallavigunalan.com/event/austin-cap-city-comedy-club/
LOCATION:Cap City Comedy Club (Austin)\, 11506 Century Oaks Terrace\, Bldg B Unit 100\, Austin\, TX\, 78758\, United States
END:VEVENT
BEGIN:VEVENT
DTSTART;TZID=America/Mexico_City:20241121T180000
DTEND;TZID=America/Mexico_City:20241121T193000
DTSTAMP:20260424T140714
CREATED:20241107T002005Z
LAST-MODIFIED:20241107T002005Z
UID:5571-1732212000-1732217400@www.pallavigunalan.com
SUMMARY:Austin: Cap City Comedy Club
DESCRIPTION:Guest Spot for Sammy Obeid
URL:https://www.pallavigunalan.com/event/austin-cap-city-comedy-club-2/
LOCATION:Cap City Comedy Club (Austin)\, 11506 Century Oaks Terrace\, Bldg B Unit 100\, Austin\, TX\, 78758\, United States
END:VEVENT
BEGIN:VEVENT
DTSTART;TZID=America/Mexico_City:20241122T193000
DTEND;TZID=America/Mexico_City:20241122T210000
DTSTAMP:20260424T140714
CREATED:20241107T002205Z
LAST-MODIFIED:20241107T002220Z
UID:5573-1732303800-1732309200@www.pallavigunalan.com
SUMMARY:Houston: Punch Line
DESCRIPTION:Featuring for Sammy Obeid
URL:https://www.pallavigunalan.com/event/houston-the-punch-line/
LOCATION:Punch Line (Houston)\, 1204 Caroline St\, Houston\, TX\, 77002\, United States
END:VEVENT
BEGIN:VEVENT
DTSTART;TZID=America/Mexico_City:20241122T214500
DTEND;TZID=America/Mexico_City:20241122T233000
DTSTAMP:20260424T140714
CREATED:20241107T002315Z
LAST-MODIFIED:20241107T002315Z
UID:5578-1732311900-1732318200@www.pallavigunalan.com
SUMMARY:Houston: Punch Line
DESCRIPTION:Featuring for Sammy Obeid
URL:https://www.pallavigunalan.com/event/houston-punch-line/
LOCATION:Punch Line (Houston)\, 1204 Caroline St\, Houston\, TX\, 77002\, United States
END:VEVENT
BEGIN:VEVENT
DTSTART;TZID=America/Mexico_City:20241123T190000
DTEND;TZID=America/Mexico_City:20241123T203000
DTSTAMP:20260424T140714
CREATED:20241107T002414Z
LAST-MODIFIED:20241107T002414Z
UID:5580-1732388400-1732393800@www.pallavigunalan.com
SUMMARY:Houston: Punch Line
DESCRIPTION:Featuring for Sammy Obeid
URL:https://www.pallavigunalan.com/event/houston-punch-line-2/
LOCATION:Punch Line (Houston)\, 1204 Caroline St\, Houston\, TX\, 77002\, United States
END:VEVENT
BEGIN:VEVENT
DTSTART;TZID=America/Mexico_City:20241123T200000
DTEND;TZID=America/Mexico_City:20241123T213000
DTSTAMP:20260424T140714
CREATED:20241115T093402Z
LAST-MODIFIED:20241115T093433Z
UID:5595-1732392000-1732397400@www.pallavigunalan.com
SUMMARY:Houston: The Secret Group
DESCRIPTION:
URL:https://www.pallavigunalan.com/event/houston-the-secret-group/
LOCATION:The Secret Group\, 2101 Polk St\, Houston\, TX\, 77003\, United States
END:VEVENT
BEGIN:VEVENT
DTSTART;TZID=America/Mexico_City:20241123T211500
DTEND;TZID=America/Mexico_City:20241123T234500
DTSTAMP:20260424T140714
CREATED:20241107T002506Z
LAST-MODIFIED:20241107T002506Z
UID:5582-1732396500-1732405500@www.pallavigunalan.com
SUMMARY:Houston: Punch Line
DESCRIPTION:Featuring for Sammy Obeid
URL:https://www.pallavigunalan.com/event/houston-punch-line-3/
LOCATION:Punch Line (Houston)\, 1204 Caroline St\, Houston\, TX\, 77002\, United States
END:VEVENT
BEGIN:VEVENT
DTSTART;TZID=America/Mexico_City:20241124T180000
DTEND;TZID=America/Mexico_City:20241124T193000
DTSTAMP:20260424T140714
CREATED:20241107T002711Z
LAST-MODIFIED:20241107T002728Z
UID:5584-1732471200-1732476600@www.pallavigunalan.com
SUMMARY:Dallas: Hyena's Comedy Nightclub
DESCRIPTION:Guest Spot for Sammy Obeid
URL:https://www.pallavigunalan.com/event/dallas-hyenas-comedy-nightclub/
LOCATION:Hyena’s Comedy Nightclub (Dallas)\, 5321 East Mockingbird\, Dallas\, TX\, 75206\, United States
END:VEVENT
BEGIN:VEVENT
DTSTART;TZID=America/Mexico_City:20241127T183000
DTEND;TZID=America/Mexico_City:20241127T200000
DTSTAMP:20260424T140714
CREATED:20241107T002806Z
LAST-MODIFIED:20241107T002806Z
UID:5588-1732732200-1732737600@www.pallavigunalan.com
SUMMARY:Dallas: Hyena's Comedy Nightclub
DESCRIPTION:Guest Spot for Sammy Obeid
URL:https://www.pallavigunalan.com/event/dallas-hyenas-comedy-nightclub-2/
LOCATION:Hyena’s Comedy Nightclub (Dallas)\, 5321 East Mockingbird\, Dallas\, TX\, 75206\, United States
END:VEVENT
BEGIN:VEVENT
DTSTART;TZID=America/Los_Angeles:20241129T193000
DTEND;TZID=America/Los_Angeles:20241129T210000
DTSTAMP:20260424T140714
CREATED:20241128T053455Z
LAST-MODIFIED:20241128T053455Z
UID:5604-1732908600-1732914000@www.pallavigunalan.com
SUMMARY:LA: Flappers
DESCRIPTION:
URL:https://www.pallavigunalan.com/event/la-flappers-17/
LOCATION:Flappers Comedy Club\, 102 E Magnolia Blvd\, Burbank\, CA\, 91502\, United States
END:VEVENT
END:VCALENDAR