BEGIN:VCALENDAR
VERSION:2.0
PRODID:-//PALLAVI GUNALAN - ECPv6.15.17//NONSGML v1.0//EN
CALSCALE:GREGORIAN
METHOD:PUBLISH
X-WR-CALNAME:PALLAVI GUNALAN
X-ORIGINAL-URL:https://www.pallavigunalan.com
X-WR-CALDESC:Events for PALLAVI GUNALAN
REFRESH-INTERVAL;VALUE=DURATION:PT1H
X-Robots-Tag:noindex
X-PUBLISHED-TTL:PT1H
BEGIN:VTIMEZONE
TZID:America/Los_Angeles
BEGIN:DAYLIGHT
TZOFFSETFROM:-0800
TZOFFSETTO:-0700
TZNAME:PDT
DTSTART:20230312T100000
END:DAYLIGHT
BEGIN:STANDARD
TZOFFSETFROM:-0700
TZOFFSETTO:-0800
TZNAME:PST
DTSTART:20231105T090000
END:STANDARD
BEGIN:DAYLIGHT
TZOFFSETFROM:-0800
TZOFFSETTO:-0700
TZNAME:PDT
DTSTART:20240310T100000
END:DAYLIGHT
BEGIN:STANDARD
TZOFFSETFROM:-0700
TZOFFSETTO:-0800
TZNAME:PST
DTSTART:20241103T090000
END:STANDARD
BEGIN:DAYLIGHT
TZOFFSETFROM:-0800
TZOFFSETTO:-0700
TZNAME:PDT
DTSTART:20250309T100000
END:DAYLIGHT
BEGIN:STANDARD
TZOFFSETFROM:-0700
TZOFFSETTO:-0800
TZNAME:PST
DTSTART:20251102T090000
END:STANDARD
END:VTIMEZONE
BEGIN:VEVENT
DTSTART;TZID=America/Los_Angeles:20241130T220000
DTEND;TZID=America/Los_Angeles:20241130T233000
DTSTAMP:20260424T122947
CREATED:20241127T190807Z
LAST-MODIFIED:20241127T190807Z
UID:5602-1733004000-1733009400@www.pallavigunalan.com
SUMMARY:LA: Westside Comedy Theater
DESCRIPTION:
URL:https://www.pallavigunalan.com/event/la-westside-comedy-theater-22/
LOCATION:Westside Comedy\, 1323-A 3rd St\, Santa Monica\, CA\, 90401\, United States
END:VEVENT
BEGIN:VEVENT
DTSTART;TZID=America/Los_Angeles:20241213T193000
DTEND;TZID=America/Los_Angeles:20241213T210000
DTSTAMP:20260424T122947
CREATED:20241220T233137Z
LAST-MODIFIED:20241220T233137Z
UID:5609-1734118200-1734123600@www.pallavigunalan.com
SUMMARY:LA: AstraLab (Gaza Fundraiser)
DESCRIPTION:
URL:https://www.pallavigunalan.com/event/la-astralab-gaza-fundraiser/
LOCATION:Astralab\, 678 La Fayette Park Pl\, Los Angeles\, CA\, 90057\, United States
END:VEVENT
BEGIN:VEVENT
DTSTART;TZID=America/Los_Angeles:20241220T223000
DTEND;TZID=America/Los_Angeles:20241221T000000
DTSTAMP:20260424T122947
CREATED:20241007T191751Z
LAST-MODIFIED:20241007T191751Z
UID:5519-1734733800-1734739200@www.pallavigunalan.com
SUMMARY:LA: Facial Recognition Comedy @ The Comedy Store
DESCRIPTION:Pallavi Gunalan\nFizaa Dosani\nZahra Ali\nNatasha Chandel
URL:https://www.pallavigunalan.com/event/la-facial-recognition-comedy-the-comedy-store-13/
LOCATION:The Comedy Store\, 8433 Sunset Blvd\, Los Angeles\, CA\, 90069\, United States
ORGANIZER;CN="Facial Recognition Comedy":MAILTO:facialrecognitioncomedy@gmail.com
END:VEVENT
BEGIN:VEVENT
DTSTART;TZID=America/Los_Angeles:20241221T190000
DTEND;TZID=America/Los_Angeles:20241221T203000
DTSTAMP:20260424T122947
CREATED:20241220T233034Z
LAST-MODIFIED:20241220T233034Z
UID:5607-1734807600-1734813000@www.pallavigunalan.com
SUMMARY:LA: UCB - Improvised Lord of the Rings
DESCRIPTION:
URL:https://www.pallavigunalan.com/event/la-ucb-improvised-lord-of-the-rings/
LOCATION:UCB Franklin\, 5919 Franklin Ave\, Los Angeles\, CA\, 90028\, United States
END:VEVENT
BEGIN:VEVENT
DTSTART;TZID=America/Los_Angeles:20241222T193000
DTEND;TZID=America/Los_Angeles:20241222T210000
DTSTAMP:20260424T122947
CREATED:20241011T105836Z
LAST-MODIFIED:20241011T105836Z
UID:5532-1734895800-1734901200@www.pallavigunalan.com
SUMMARY:LA: The Comedy Chateau
DESCRIPTION:
URL:https://www.pallavigunalan.com/event/la-the-comedy-chateau-42/
LOCATION:CA
END:VEVENT
BEGIN:VEVENT
DTSTART;TZID=America/Los_Angeles:20241227T200000
DTEND;TZID=America/Los_Angeles:20241227T213000
DTSTAMP:20260424T122947
CREATED:20241226T231412Z
LAST-MODIFIED:20241226T231412Z
UID:5622-1735329600-1735335000@www.pallavigunalan.com
SUMMARY:LA: Westside Comedy Theater
DESCRIPTION:
URL:https://www.pallavigunalan.com/event/la-westside-comedy-theater-23/
LOCATION:Westside Comedy\, 1323-A 3rd St\, Santa Monica\, CA\, 90401\, United States
END:VEVENT
BEGIN:VEVENT
DTSTART;TZID=America/Los_Angeles:20241227T200000
DTEND;TZID=America/Los_Angeles:20241227T213000
DTSTAMP:20260424T122947
CREATED:20241227T223823Z
LAST-MODIFIED:20241227T223823Z
UID:5626-1735329600-1735335000@www.pallavigunalan.com
SUMMARY:LA: The Comedy Chateau
DESCRIPTION:
URL:https://www.pallavigunalan.com/event/la-the-comedy-chateau-43/
LOCATION:The Comedy Chateau\, 4615 Lankershim Blvd\, North Hollywood\, CA\, 91602\, United States
END:VEVENT
BEGIN:VEVENT
DTSTART;TZID=America/Los_Angeles:20241228T200000
DTEND;TZID=America/Los_Angeles:20241228T213000
DTSTAMP:20260424T122947
CREATED:20241227T223718Z
LAST-MODIFIED:20241227T223718Z
UID:5624-1735416000-1735421400@www.pallavigunalan.com
SUMMARY:LA: The Nitecap
DESCRIPTION:
URL:https://www.pallavigunalan.com/event/la-the-nitecap-7/
LOCATION:The Nitecap\, 2200 W Burbank Blvd STE B\, Burbank\, CA\, 91506\, United States
END:VEVENT
BEGIN:VEVENT
DTSTART;TZID=America/Los_Angeles:20241228T200000
DTEND;TZID=America/Los_Angeles:20241228T213000
DTSTAMP:20260424T122947
CREATED:20241227T223845Z
LAST-MODIFIED:20241227T223845Z
UID:5628-1735416000-1735421400@www.pallavigunalan.com
SUMMARY:LA: The Comedy Chateau
DESCRIPTION:
URL:https://www.pallavigunalan.com/event/la-the-comedy-chateau-44/
LOCATION:The Comedy Chateau\, 4615 Lankershim Blvd\, North Hollywood\, CA\, 91602\, United States
END:VEVENT
END:VCALENDAR