BEGIN:VCALENDAR
VERSION:2.0
PRODID:-//PALLAVI GUNALAN - ECPv6.15.17//NONSGML v1.0//EN
CALSCALE:GREGORIAN
METHOD:PUBLISH
X-WR-CALNAME:PALLAVI GUNALAN
X-ORIGINAL-URL:https://www.pallavigunalan.com
X-WR-CALDESC:Events for PALLAVI GUNALAN
REFRESH-INTERVAL;VALUE=DURATION:PT1H
X-Robots-Tag:noindex
X-PUBLISHED-TTL:PT1H
BEGIN:VTIMEZONE
TZID:America/Los_Angeles
BEGIN:DAYLIGHT
TZOFFSETFROM:-0800
TZOFFSETTO:-0700
TZNAME:PDT
DTSTART:20240310T100000
END:DAYLIGHT
BEGIN:STANDARD
TZOFFSETFROM:-0700
TZOFFSETTO:-0800
TZNAME:PST
DTSTART:20241103T090000
END:STANDARD
BEGIN:DAYLIGHT
TZOFFSETFROM:-0800
TZOFFSETTO:-0700
TZNAME:PDT
DTSTART:20250309T100000
END:DAYLIGHT
BEGIN:STANDARD
TZOFFSETFROM:-0700
TZOFFSETTO:-0800
TZNAME:PST
DTSTART:20251102T090000
END:STANDARD
BEGIN:DAYLIGHT
TZOFFSETFROM:-0800
TZOFFSETTO:-0700
TZNAME:PDT
DTSTART:20260308T100000
END:DAYLIGHT
BEGIN:STANDARD
TZOFFSETFROM:-0700
TZOFFSETTO:-0800
TZNAME:PST
DTSTART:20261101T090000
END:STANDARD
END:VTIMEZONE
BEGIN:VEVENT
DTSTART;TZID=America/Los_Angeles:20250115T200000
DTEND;TZID=America/Los_Angeles:20250115T213000
DTSTAMP:20260424T110732
CREATED:20250124T122513Z
LAST-MODIFIED:20250124T122513Z
UID:5645-1736971200-1736976600@www.pallavigunalan.com
SUMMARY:LA: The Comedy Store (Belly Room)
DESCRIPTION:
URL:https://www.pallavigunalan.com/event/la-the-comedy-store-belly-room/
LOCATION:The Comedy Store\, 8433 Sunset Blvd\, Los Angeles\, CA\, 90069\, United States
END:VEVENT
BEGIN:VEVENT
DTSTART;TZID=America/Los_Angeles:20250117T193000
DTEND;TZID=America/Los_Angeles:20250117T210000
DTSTAMP:20260424T110732
CREATED:20250115T020845Z
LAST-MODIFIED:20250115T020845Z
UID:5631-1737142200-1737147600@www.pallavigunalan.com
SUMMARY:LA: The Comedy Chateau
DESCRIPTION:
URL:https://www.pallavigunalan.com/event/la-the-comedy-chateau-45/
LOCATION:The Comedy Chateau\, 4615 Lankershim Blvd\, North Hollywood\, CA\, 91602\, United States
END:VEVENT
BEGIN:VEVENT
DTSTART;TZID=America/Los_Angeles:20250118T190000
DTEND;TZID=America/Los_Angeles:20250118T203000
DTSTAMP:20260424T110732
CREATED:20250115T021002Z
LAST-MODIFIED:20250115T021002Z
UID:5633-1737226800-1737232200@www.pallavigunalan.com
SUMMARY:LA: The Good Nite
DESCRIPTION:
URL:https://www.pallavigunalan.com/event/la-the-good-nite-3/
LOCATION:The Good Nite\, 10721 Burbank Blvd\, North Hollywood\, CA\, 91601\, United States
END:VEVENT
BEGIN:VEVENT
DTSTART;TZID=America/Los_Angeles:20250118T193000
DTEND;TZID=America/Los_Angeles:20250118T210000
DTSTAMP:20260424T110732
CREATED:20250124T122430Z
LAST-MODIFIED:20250124T122430Z
UID:5643-1737228600-1737234000@www.pallavigunalan.com
SUMMARY:LA: The Comedy Chateau
DESCRIPTION:
URL:https://www.pallavigunalan.com/event/la-the-comedy-chateau-47/
LOCATION:The Comedy Chateau\, 4615 Lankershim Blvd\, North Hollywood\, CA\, 91602\, United States
END:VEVENT
BEGIN:VEVENT
DTSTART;TZID=America/Los_Angeles:20250119T200000
DTEND;TZID=America/Los_Angeles:20250119T213000
DTSTAMP:20260424T110732
CREATED:20250115T021840Z
LAST-MODIFIED:20250115T021840Z
UID:5638-1737316800-1737322200@www.pallavigunalan.com
SUMMARY:San Diego: Mad House Comedy Club
DESCRIPTION:
URL:https://www.pallavigunalan.com/event/san-diego-mad-house-comedy-club/
LOCATION:Mad House Comedy Club\, 801 Fourth Ave\, San Diego\, 92101
END:VEVENT
BEGIN:VEVENT
DTSTART;TZID=America/Los_Angeles:20250122T193000
DTEND;TZID=America/Los_Angeles:20250122T210000
DTSTAMP:20260424T110732
CREATED:20241220T233718Z
LAST-MODIFIED:20241220T233718Z
UID:5613-1737574200-1737579600@www.pallavigunalan.com
SUMMARY:Long Beach: Bear City Comedy
DESCRIPTION:
URL:https://www.pallavigunalan.com/event/long-beach-bear-city-comedy/
LOCATION:Que Sera\, 1923 E 7th St\, Long Beach\, CA\, 90813\, United States
END:VEVENT
BEGIN:VEVENT
DTSTART;TZID=America/Los_Angeles:20250124T190000
DTEND;TZID=America/Los_Angeles:20250124T203000
DTSTAMP:20260424T110732
CREATED:20241226T231321Z
LAST-MODIFIED:20241226T231321Z
UID:5617-1737745200-1737750600@www.pallavigunalan.com
SUMMARY:SF: The Function
DESCRIPTION:
URL:https://www.pallavigunalan.com/event/sf-the-function/
LOCATION:The Function SF: Comedy Club & Cocktail Lounge\, 1414 Market St\, San Francisco\, CA\, 94102\, United States
END:VEVENT
BEGIN:VEVENT
DTSTART;TZID=America/Los_Angeles:20250124T210000
DTEND;TZID=America/Los_Angeles:20250124T223000
DTSTAMP:20260424T110732
CREATED:20241226T231343Z
LAST-MODIFIED:20241226T231343Z
UID:5620-1737752400-1737757800@www.pallavigunalan.com
SUMMARY:SF: The Function
DESCRIPTION:
URL:https://www.pallavigunalan.com/event/sf-the-function-2/
LOCATION:The Function SF: Comedy Club & Cocktail Lounge\, 1414 Market St\, San Francisco\, CA\, 94102\, United States
END:VEVENT
BEGIN:VEVENT
DTSTART;TZID=America/Los_Angeles:20250125T130000
DTEND;TZID=America/Los_Angeles:20250125T143000
DTSTAMP:20260424T110732
CREATED:20241116T005717Z
LAST-MODIFIED:20241116T005717Z
UID:5599-1737810000-1737815400@www.pallavigunalan.com
SUMMARY:SF: Comedian Clash @ SF Sketchfest
DESCRIPTION:
URL:https://www.pallavigunalan.com/event/sf-comedian-clash-sf-sketchfest/
LOCATION:Cobb’s Comedy Club\, 915 Columbus Avenue\, San Francisco\, CA\, 94133\, United States
END:VEVENT
BEGIN:VEVENT
DTSTART;TZID=America/Los_Angeles:20250125T193000
DTEND;TZID=America/Los_Angeles:20250125T210000
DTSTAMP:20260424T110732
CREATED:20241116T003305Z
LAST-MODIFIED:20241116T003305Z
UID:5597-1737833400-1737838800@www.pallavigunalan.com
SUMMARY:SF: Facial Recognition Comedy @ SF Sketchfest
DESCRIPTION:
URL:https://www.pallavigunalan.com/event/sf-facial-recognition-comedy-sf-sketchfest-2/
LOCATION:Lost Church\, 988 Columbus Ave\, San Francisco\, CA\, 94133\, United States
ORGANIZER;CN="Facial Recognition Comedy":MAILTO:facialrecognitioncomedy@gmail.com
END:VEVENT
BEGIN:VEVENT
DTSTART;TZID=America/Los_Angeles:20250130T193000
DTEND;TZID=America/Los_Angeles:20250130T210000
DTSTAMP:20260424T110732
CREATED:20250202T015013Z
LAST-MODIFIED:20250202T015013Z
UID:5661-1738265400-1738270800@www.pallavigunalan.com
SUMMARY:San Diego: Mic Drop Comedy (Main Room)
DESCRIPTION:
URL:https://www.pallavigunalan.com/event/san-diego-mic-drop-comedy-main-room/
LOCATION:Mic Drop Comedy\, 8878 Clairemont Mesa Blvd\, San Diego\, CA\, 92123\, United States
END:VEVENT
BEGIN:VEVENT
DTSTART;TZID=America/Los_Angeles:20250131T193000
DTEND;TZID=America/Los_Angeles:20250131T210000
DTSTAMP:20260424T110732
CREATED:20250124T122747Z
LAST-MODIFIED:20250124T122747Z
UID:5649-1738351800-1738357200@www.pallavigunalan.com
SUMMARY:San Diego: Mic Drop Comedy
DESCRIPTION:
URL:https://www.pallavigunalan.com/event/san-diego-mic-drop-comedy-2/
LOCATION:Mic Drop Comedy\, 8878 Clairemont Mesa Blvd\, San Diego\, CA\, 92123\, United States
END:VEVENT
END:VCALENDAR