BEGIN:VCALENDAR
VERSION:2.0
PRODID:-//PALLAVI GUNALAN - ECPv6.15.17//NONSGML v1.0//EN
CALSCALE:GREGORIAN
METHOD:PUBLISH
X-WR-CALNAME:PALLAVI GUNALAN
X-ORIGINAL-URL:https://www.pallavigunalan.com
X-WR-CALDESC:Events for PALLAVI GUNALAN
REFRESH-INTERVAL;VALUE=DURATION:PT1H
X-Robots-Tag:noindex
X-PUBLISHED-TTL:PT1H
BEGIN:VTIMEZONE
TZID:America/Los_Angeles
BEGIN:DAYLIGHT
TZOFFSETFROM:-0800
TZOFFSETTO:-0700
TZNAME:PDT
DTSTART:20240310T100000
END:DAYLIGHT
BEGIN:STANDARD
TZOFFSETFROM:-0700
TZOFFSETTO:-0800
TZNAME:PST
DTSTART:20241103T090000
END:STANDARD
BEGIN:DAYLIGHT
TZOFFSETFROM:-0800
TZOFFSETTO:-0700
TZNAME:PDT
DTSTART:20250309T100000
END:DAYLIGHT
BEGIN:STANDARD
TZOFFSETFROM:-0700
TZOFFSETTO:-0800
TZNAME:PST
DTSTART:20251102T090000
END:STANDARD
BEGIN:DAYLIGHT
TZOFFSETFROM:-0800
TZOFFSETTO:-0700
TZNAME:PDT
DTSTART:20260308T100000
END:DAYLIGHT
BEGIN:STANDARD
TZOFFSETFROM:-0700
TZOFFSETTO:-0800
TZNAME:PST
DTSTART:20261101T090000
END:STANDARD
END:VTIMEZONE
BEGIN:VEVENT
DTSTART;TZID=America/Los_Angeles:20250131T193000
DTEND;TZID=America/Los_Angeles:20250131T210000
DTSTAMP:20260424T094843
CREATED:20250124T122747Z
LAST-MODIFIED:20250124T122747Z
UID:5649-1738351800-1738357200@www.pallavigunalan.com
SUMMARY:San Diego: Mic Drop Comedy
DESCRIPTION:
URL:https://www.pallavigunalan.com/event/san-diego-mic-drop-comedy-2/
LOCATION:Mic Drop Comedy\, 8878 Clairemont Mesa Blvd\, San Diego\, CA\, 92123\, United States
END:VEVENT
BEGIN:VEVENT
DTSTART;TZID=America/Los_Angeles:20250201T193000
DTEND;TZID=America/Los_Angeles:20250201T210000
DTSTAMP:20260424T094843
CREATED:20250124T122334Z
LAST-MODIFIED:20250124T122334Z
UID:5641-1738438200-1738443600@www.pallavigunalan.com
SUMMARY:LA: The Comedy Chateau
DESCRIPTION:
URL:https://www.pallavigunalan.com/event/la-the-comedy-chateau-46/
LOCATION:The Comedy Chateau\, 4615 Lankershim Blvd\, North Hollywood\, CA\, 91602\, United States
END:VEVENT
BEGIN:VEVENT
DTSTART;TZID=America/Los_Angeles:20250206T193000
DTEND;TZID=America/Los_Angeles:20250206T210000
DTSTAMP:20260424T094843
CREATED:20250124T123438Z
LAST-MODIFIED:20250124T123438Z
UID:5654-1738870200-1738875600@www.pallavigunalan.com
SUMMARY:Oxnard: Levity Live
DESCRIPTION:
URL:https://www.pallavigunalan.com/event/oxnard-levity-live/
LOCATION:Oxnard Levity Live\, 591 Collection Blvd\, Oxnard\, CA\, 93036\, United States
END:VEVENT
BEGIN:VEVENT
DTSTART;TZID=America/Los_Angeles:20250215T193000
DTEND;TZID=America/Los_Angeles:20250215T210000
DTSTAMP:20260424T094843
CREATED:20250115T021359Z
LAST-MODIFIED:20250115T021359Z
UID:5635-1739647800-1739653200@www.pallavigunalan.com
SUMMARY:Santa Barbara: The Good Good Show
DESCRIPTION:
URL:https://www.pallavigunalan.com/event/santa-barbara-the-good-good-show/
LOCATION:Night Lizard Brewing Company\, 607 State St\, Santa Barbara\, CA\, 93101\, United States
END:VEVENT
BEGIN:VEVENT
DTSTART;TZID=America/Los_Angeles:20250216T193000
DTEND;TZID=America/Los_Angeles:20250216T210000
DTSTAMP:20260424T094843
CREATED:20250215T081827Z
LAST-MODIFIED:20250215T081827Z
UID:5664-1739734200-1739739600@www.pallavigunalan.com
SUMMARY:LA: The Comedy Chateau
DESCRIPTION:
URL:https://www.pallavigunalan.com/event/la-the-comedy-chateau-48/
LOCATION:The Comedy Chateau\, 4615 Lankershim Blvd\, North Hollywood\, CA\, 91602\, United States
END:VEVENT
BEGIN:VEVENT
DTSTART;TZID=America/Los_Angeles:20250219T190000
DTEND;TZID=America/Los_Angeles:20250219T210000
DTSTAMP:20260424T094843
CREATED:20250124T123318Z
LAST-MODIFIED:20250124T123318Z
UID:5651-1739991600-1739998800@www.pallavigunalan.com
SUMMARY:Santa Barbara: Bear Cave Comedy
DESCRIPTION:
URL:https://www.pallavigunalan.com/event/santa-barbara-bear-cave-comedy/
LOCATION:Your CBD Store\, 10 W Calle Laureles C\, Santa Barbara\, CA\, 93105\, United States
END:VEVENT
BEGIN:VEVENT
DTSTART;TZID=America/Los_Angeles:20250220T200000
DTEND;TZID=America/Los_Angeles:20250220T213000
DTSTAMP:20260424T094843
CREATED:20250217T225518Z
LAST-MODIFIED:20250217T225518Z
UID:5692-1740081600-1740087000@www.pallavigunalan.com
SUMMARY:LA: Peacock Show
DESCRIPTION:
URL:https://www.pallavigunalan.com/event/la-peacock-show/
LOCATION:Club Tee Gee\, 3210 Glendale Blvd\, Los Angeles\, CA\, 90039\, United States
END:VEVENT
BEGIN:VEVENT
DTSTART;TZID=America/Los_Angeles:20250223T193000
DTEND;TZID=America/Los_Angeles:20250223T210000
DTSTAMP:20260424T094843
CREATED:20250215T081905Z
LAST-MODIFIED:20250215T081905Z
UID:5666-1740339000-1740344400@www.pallavigunalan.com
SUMMARY:LA: The Comedy Chateau
DESCRIPTION:
URL:https://www.pallavigunalan.com/event/la-the-comedy-chateau-49/
LOCATION:The Comedy Chateau\, 4615 Lankershim Blvd\, North Hollywood\, CA\, 91602\, United States
END:VEVENT
BEGIN:VEVENT
DTSTART;TZID=America/Los_Angeles:20250227T200000
DTEND;TZID=America/Los_Angeles:20250227T213000
DTSTAMP:20260424T094843
CREATED:20250215T084253Z
LAST-MODIFIED:20250215T084253Z
UID:5668-1740686400-1740691800@www.pallavigunalan.com
SUMMARY:PDX: Preach
DESCRIPTION:
URL:https://www.pallavigunalan.com/event/pdx-preach/
LOCATION:Pope House Bourbon Lounge\, 2075 NW Glisan St\, Portland\, OR\, 97209\, United States
END:VEVENT
BEGIN:VEVENT
DTSTART;TZID=America/Los_Angeles:20250227T200000
DTEND;TZID=America/Los_Angeles:20250227T213000
DTSTAMP:20260424T094843
CREATED:20250215T084358Z
LAST-MODIFIED:20250215T084358Z
UID:5671-1740686400-1740691800@www.pallavigunalan.com
SUMMARY:PDX: Chill N Fill
DESCRIPTION:
URL:https://www.pallavigunalan.com/event/pdx-chill-n-fill/
LOCATION:Chill N Fill\, 5215 N Lombard St\, Portland\, OR\, 97203\, United States
END:VEVENT
END:VCALENDAR