BEGIN:VCALENDAR
VERSION:2.0
PRODID:-//PALLAVI GUNALAN - ECPv6.15.17//NONSGML v1.0//EN
CALSCALE:GREGORIAN
METHOD:PUBLISH
X-ORIGINAL-URL:https://www.pallavigunalan.com
X-WR-CALDESC:Events for PALLAVI GUNALAN
REFRESH-INTERVAL;VALUE=DURATION:PT1H
X-Robots-Tag:noindex
X-PUBLISHED-TTL:PT1H
BEGIN:VTIMEZONE
TZID:America/Chicago
BEGIN:DAYLIGHT
TZOFFSETFROM:-0600
TZOFFSETTO:-0500
TZNAME:CDT
DTSTART:20240310T080000
END:DAYLIGHT
BEGIN:STANDARD
TZOFFSETFROM:-0500
TZOFFSETTO:-0600
TZNAME:CST
DTSTART:20241103T070000
END:STANDARD
BEGIN:DAYLIGHT
TZOFFSETFROM:-0600
TZOFFSETTO:-0500
TZNAME:CDT
DTSTART:20250309T080000
END:DAYLIGHT
BEGIN:STANDARD
TZOFFSETFROM:-0500
TZOFFSETTO:-0600
TZNAME:CST
DTSTART:20251102T070000
END:STANDARD
BEGIN:DAYLIGHT
TZOFFSETFROM:-0600
TZOFFSETTO:-0500
TZNAME:CDT
DTSTART:20260308T080000
END:DAYLIGHT
BEGIN:STANDARD
TZOFFSETFROM:-0500
TZOFFSETTO:-0600
TZNAME:CST
DTSTART:20261101T070000
END:STANDARD
END:VTIMEZONE
BEGIN:VTIMEZONE
TZID:America/Los_Angeles
BEGIN:DAYLIGHT
TZOFFSETFROM:-0800
TZOFFSETTO:-0700
TZNAME:PDT
DTSTART:20240310T100000
END:DAYLIGHT
BEGIN:STANDARD
TZOFFSETFROM:-0700
TZOFFSETTO:-0800
TZNAME:PST
DTSTART:20241103T090000
END:STANDARD
BEGIN:DAYLIGHT
TZOFFSETFROM:-0800
TZOFFSETTO:-0700
TZNAME:PDT
DTSTART:20250309T100000
END:DAYLIGHT
BEGIN:STANDARD
TZOFFSETFROM:-0700
TZOFFSETTO:-0800
TZNAME:PST
DTSTART:20251102T090000
END:STANDARD
BEGIN:DAYLIGHT
TZOFFSETFROM:-0800
TZOFFSETTO:-0700
TZNAME:PDT
DTSTART:20260308T100000
END:DAYLIGHT
BEGIN:STANDARD
TZOFFSETFROM:-0700
TZOFFSETTO:-0800
TZNAME:PST
DTSTART:20261101T090000
END:STANDARD
END:VTIMEZONE
BEGIN:VEVENT
DTSTART;TZID=America/Chicago:20250502T200000
DTEND;TZID=America/Chicago:20250502T213000
DTSTAMP:20260424T052451
CREATED:20250415T004443Z
LAST-MODIFIED:20250415T004443Z
UID:5746-1746216000-1746221400@www.pallavigunalan.com
SUMMARY:CHICAGO: The Lincoln Lodge
DESCRIPTION:
URL:https://www.pallavigunalan.com/event/chicago-the-lincoln-lodge-2/
LOCATION:The Lincoln Lodge\, 2040 N Milwaukee Ave\, Chicago\, IL\, 60647\, United States
END:VEVENT
BEGIN:VEVENT
DTSTART;TZID=America/Chicago:20250503T231500
DTEND;TZID=America/Chicago:20250503T231500
DTSTAMP:20260424T052451
CREATED:20250415T004409Z
LAST-MODIFIED:20250415T004409Z
UID:5743-1746314100-1746314100@www.pallavigunalan.com
SUMMARY:CHICAGO: Zanies
DESCRIPTION:
URL:https://www.pallavigunalan.com/event/chicago-zanies/
LOCATION:Zanies Chicago\, 1548 N Wells St\, Chicago\, IL\, 60610\, United States
END:VEVENT
BEGIN:VEVENT
DTSTART;TZID=America/Chicago:20250505T193000
DTEND;TZID=America/Chicago:20250505T210000
DTSTAMP:20260424T052451
CREATED:20250504T063017Z
LAST-MODIFIED:20250504T063017Z
UID:5753-1746473400-1746478800@www.pallavigunalan.com
SUMMARY:CHICAGO: Comedy Bar
DESCRIPTION:
URL:https://www.pallavigunalan.com/event/chicago-comedy-bar/
LOCATION:The Comedy Bar – Chicago\, 162 E Superior St\, Chicago\, IL\, 60611\, United States
END:VEVENT
BEGIN:VEVENT
DTSTART;TZID=America/Los_Angeles:20250505T210000
DTEND;TZID=America/Los_Angeles:20250505T223000
DTSTAMP:20260424T052451
CREATED:20250504T063145Z
LAST-MODIFIED:20250504T063145Z
UID:5755-1746478800-1746484200@www.pallavigunalan.com
SUMMARY:CHICAGO: Butch McGuires
DESCRIPTION:
URL:https://www.pallavigunalan.com/event/chicago-butch-mcguires/
LOCATION:Butch McGuires\, 20 W Division St\, Chicago\, IL\, 60610\, United States
END:VEVENT
BEGIN:VEVENT
DTSTART;TZID=America/Los_Angeles:20250508T193000
DTEND;TZID=America/Los_Angeles:20250508T210000
DTSTAMP:20260424T052451
CREATED:20250509T005621Z
LAST-MODIFIED:20250509T005621Z
UID:5783-1746732600-1746738000@www.pallavigunalan.com
SUMMARY:LA: Flappers (YooHoo Room)
DESCRIPTION:
URL:https://www.pallavigunalan.com/event/la-flappers-yoohoo-room/
LOCATION:Flappers Comedy Club\, 102 E Magnolia Blvd\, Burbank\, CA\, 91502\, United States
END:VEVENT
BEGIN:VEVENT
DTSTART;TZID=America/Los_Angeles:20250510T213000
DTEND;TZID=America/Los_Angeles:20250510T230000
DTSTAMP:20260424T052451
CREATED:20250504T071839Z
LAST-MODIFIED:20250504T071839Z
UID:5781-1746912600-1746918000@www.pallavigunalan.com
SUMMARY:LA: Dead Funny
DESCRIPTION:
URL:https://www.pallavigunalan.com/event/la-dead-funny/
LOCATION:The Clubhouse\, 1607 N Vermont Ave\, Los Angeles\, CA\, 90027\, United States
END:VEVENT
BEGIN:VEVENT
DTSTART;TZID=America/Los_Angeles:20250511T193000
DTEND;TZID=America/Los_Angeles:20250511T210000
DTSTAMP:20260424T052451
CREATED:20250625T012138Z
LAST-MODIFIED:20250625T012138Z
UID:5835-1746991800-1746997200@www.pallavigunalan.com
SUMMARY:LA: The Comedy Chateau
DESCRIPTION:
URL:https://www.pallavigunalan.com/event/la-the-comedy-chateau-53/
LOCATION:The Comedy Chateau\, 4615 Lankershim Blvd\, North Hollywood\, CA\, 91602\, United States
END:VEVENT
BEGIN:VEVENT
DTSTART;TZID=America/Los_Angeles:20250511T210000
DTEND;TZID=America/Los_Angeles:20250511T230000
DTSTAMP:20260424T052451
CREATED:20250504T071209Z
LAST-MODIFIED:20250504T071209Z
UID:5779-1746997200-1747004400@www.pallavigunalan.com
SUMMARY:LA: Stupid (Broadwater Second Stage)
DESCRIPTION:
URL:https://www.pallavigunalan.com/event/la-stupid-broadwater-second-stage/
LOCATION:The Broadwater\, 6322 Santa Monica Blvd\, Los Angeles\, CA\, 90038\, United States
END:VEVENT
BEGIN:VEVENT
DTSTART;TZID=America/Los_Angeles:20250513T193000
DTEND;TZID=America/Los_Angeles:20250513T210000
DTSTAMP:20260424T052451
CREATED:20250625T012219Z
LAST-MODIFIED:20250625T012219Z
UID:5837-1747164600-1747170000@www.pallavigunalan.com
SUMMARY:LA: JFL Showcase Audition
DESCRIPTION:
URL:https://www.pallavigunalan.com/event/la-jfl-showcase-audition/
LOCATION:UCB Franklin\, 5919 Franklin Ave\, Los Angeles\, CA\, 90028\, United States
END:VEVENT
BEGIN:VEVENT
DTSTART;TZID=America/Los_Angeles:20250516T200000
DTEND;TZID=America/Los_Angeles:20250516T213000
DTSTAMP:20260424T052451
CREATED:20250328T231822Z
LAST-MODIFIED:20250328T231822Z
UID:5735-1747425600-1747431000@www.pallavigunalan.com
SUMMARY:LA: Pupusas & Punchlines
DESCRIPTION:
URL:https://www.pallavigunalan.com/event/la-pupusas-punchlines/
LOCATION:Jaragua\, 4493 Beverly Blvd\, Los Angeles\, CA\, 90004\, United States
END:VEVENT
BEGIN:VEVENT
DTSTART;TZID=America/Los_Angeles:20250516T220000
DTEND;TZID=America/Los_Angeles:20250516T233000
DTSTAMP:20260424T052451
CREATED:20250625T012336Z
LAST-MODIFIED:20250625T012336Z
UID:5839-1747432800-1747438200@www.pallavigunalan.com
SUMMARY:LA: FRC @ The Comedy Store
DESCRIPTION:
URL:https://www.pallavigunalan.com/event/la-frc-the-comedy-store-4/
LOCATION:The Comedy Store\, 8433 Sunset Blvd\, Los Angeles\, CA\, 90069\, United States
ORGANIZER;CN="Facial Recognition Comedy":MAILTO:facialrecognitioncomedy@gmail.com
END:VEVENT
BEGIN:VEVENT
DTSTART;TZID=America/Los_Angeles:20250517T213000
DTEND;TZID=America/Los_Angeles:20250517T230000
DTSTAMP:20260424T052451
CREATED:20250514T080035Z
LAST-MODIFIED:20250514T080451Z
UID:5786-1747517400-1747522800@www.pallavigunalan.com
SUMMARY:LA: Flappers
DESCRIPTION:
URL:https://www.pallavigunalan.com/event/la-flappers-18/
LOCATION:Flappers Comedy Club\, 102 E Magnolia Blvd\, Burbank\, CA\, 91502\, United States
END:VEVENT
BEGIN:VEVENT
DTSTART;TZID=America/Los_Angeles:20250518T193000
DTEND;TZID=America/Los_Angeles:20250518T210000
DTSTAMP:20260424T052451
CREATED:20250625T012524Z
LAST-MODIFIED:20250625T012524Z
UID:5841-1747596600-1747602000@www.pallavigunalan.com
SUMMARY:LA: Roll for Jokes
DESCRIPTION:Livestreamed
URL:https://www.pallavigunalan.com/event/la-roll-for-jokes/
LOCATION:The Glendale Room\, 127 Artsakh Ave\, Glendale\, CA\, 91206\, United States
END:VEVENT
BEGIN:VEVENT
DTSTART;TZID=America/Chicago:20250522T183000
DTEND;TZID=America/Chicago:20250522T200000
DTSTAMP:20260424T052451
CREATED:20250504T064749Z
LAST-MODIFIED:20250504T064749Z
UID:5758-1747938600-1747944000@www.pallavigunalan.com
SUMMARY:AUSTIN: Cap City Comedy Club
DESCRIPTION:
URL:https://www.pallavigunalan.com/event/austin-cap-city-comedy-club-3/
LOCATION:Cap City Comedy Club (Austin)\, 11506 Century Oaks Terrace\, Bldg B Unit 100\, Austin\, TX\, 78758\, United States
END:VEVENT
BEGIN:VEVENT
DTSTART;TZID=America/Chicago:20250523T190000
DTEND;TZID=America/Chicago:20250523T203000
DTSTAMP:20260424T052451
CREATED:20250504T064837Z
LAST-MODIFIED:20250504T064837Z
UID:5760-1748026800-1748032200@www.pallavigunalan.com
SUMMARY:HOUSTON: Punch Line Comedy Club
DESCRIPTION:
URL:https://www.pallavigunalan.com/event/houston-punch-line-comedy-club/
LOCATION:Punch Line (Houston)\, 1204 Caroline St\, Houston\, TX\, 77002\, United States
END:VEVENT
BEGIN:VEVENT
DTSTART;TZID=America/Chicago:20250524T180000
DTEND;TZID=America/Chicago:20250524T193000
DTSTAMP:20260424T052451
CREATED:20250504T064908Z
LAST-MODIFIED:20250504T064908Z
UID:5762-1748109600-1748115000@www.pallavigunalan.com
SUMMARY:HOUSTON: Punch Line Comedy Club
DESCRIPTION:
URL:https://www.pallavigunalan.com/event/houston-punch-line-comedy-club-2/
LOCATION:Punch Line (Houston)\, 1204 Caroline St\, Houston\, TX\, 77002\, United States
END:VEVENT
BEGIN:VEVENT
DTSTART;TZID=America/Chicago:20250524T201500
DTEND;TZID=America/Chicago:20250524T214500
DTSTAMP:20260424T052451
CREATED:20250504T064937Z
LAST-MODIFIED:20250504T064937Z
UID:5764-1748117700-1748123100@www.pallavigunalan.com
SUMMARY:HOUSTON: Punch Line Comedy Club
DESCRIPTION:
URL:https://www.pallavigunalan.com/event/houston-punch-line-comedy-club-3/
LOCATION:Punch Line (Houston)\, 1204 Caroline St\, Houston\, TX\, 77002\, United States
END:VEVENT
BEGIN:VEVENT
DTSTART;TZID=America/Chicago:20250525T180000
DTEND;TZID=America/Chicago:20250525T193000
DTSTAMP:20260424T052451
CREATED:20250504T065008Z
LAST-MODIFIED:20250504T065008Z
UID:5766-1748196000-1748201400@www.pallavigunalan.com
SUMMARY:DALLAS: Hyenas Comedy Club
DESCRIPTION:
URL:https://www.pallavigunalan.com/event/dallas-hyenas-comedy-club/
LOCATION:Hyena’s Comedy Nightclub (Dallas)\, 5321 East Mockingbird\, Dallas\, TX\, 75206\, United States
END:VEVENT
BEGIN:VEVENT
DTSTART;TZID=America/Chicago:20250525T210000
DTEND;TZID=America/Chicago:20250525T223000
DTSTAMP:20260424T052451
CREATED:20250415T011703Z
LAST-MODIFIED:20250415T032531Z
UID:5748-1748206800-1748212200@www.pallavigunalan.com
SUMMARY:DALLAS: Headlining Dallas Comedy Club
DESCRIPTION:Also featuring Shahyan Jahani
URL:https://www.pallavigunalan.com/event/dallas-headlining-dallas-comedy-club/
LOCATION:Dallas Comedy Club\, 3036 Elm St\, Dallas\, TX\, 75226\, United States
END:VEVENT
BEGIN:VEVENT
DTSTART;TZID=America/Los_Angeles:20250528T200000
DTEND;TZID=America/Los_Angeles:20250528T213000
DTSTAMP:20260424T052451
CREATED:20250625T011951Z
LAST-MODIFIED:20250625T011951Z
UID:5832-1748462400-1748467800@www.pallavigunalan.com
SUMMARY:LA: The Kookaburra Lounge
DESCRIPTION:Hosting
URL:https://www.pallavigunalan.com/event/la-the-kookaburra-lounge/
LOCATION:The Kookaburra Lounge\, 6801 Hollywood Blvd 4th floor\, Hollywood\, CA\, 90028\, United States
END:VEVENT
BEGIN:VEVENT
DTSTART;TZID=America/Los_Angeles:20250530T190000
DTEND;TZID=America/Los_Angeles:20250530T203000
DTSTAMP:20260424T052451
CREATED:20250603T072135Z
LAST-MODIFIED:20250603T072135Z
UID:5794-1748631600-1748637000@www.pallavigunalan.com
SUMMARY:LA: Bitchuation Room Live
DESCRIPTION:
URL:https://www.pallavigunalan.com/event/la-bitchuation-room-live/
LOCATION:The Elysian Theater\, 1944 Riverside Dr\, Los Angeles\, CA\, 90039\, United States
END:VEVENT
BEGIN:VEVENT
DTSTART;TZID=America/Los_Angeles:20250530T220000
DTEND;TZID=America/Los_Angeles:20250530T233000
DTSTAMP:20260424T052451
CREATED:20250625T012709Z
LAST-MODIFIED:20250625T012709Z
UID:5843-1748642400-1748647800@www.pallavigunalan.com
SUMMARY:LA: The Ice House
DESCRIPTION:
URL:https://www.pallavigunalan.com/event/la-the-ice-house/
LOCATION:The Ice House\, 24 N Mentor\, Pasadena\, CA\, 91106\, United States
END:VEVENT
END:VCALENDAR