BEGIN:VCALENDAR
VERSION:2.0
PRODID:-//PALLAVI GUNALAN - ECPv6.15.17//NONSGML v1.0//EN
CALSCALE:GREGORIAN
METHOD:PUBLISH
X-WR-CALNAME:PALLAVI GUNALAN
X-ORIGINAL-URL:https://www.pallavigunalan.com
X-WR-CALDESC:Events for PALLAVI GUNALAN
REFRESH-INTERVAL;VALUE=DURATION:PT1H
X-Robots-Tag:noindex
X-PUBLISHED-TTL:PT1H
BEGIN:VTIMEZONE
TZID:America/Los_Angeles
BEGIN:DAYLIGHT
TZOFFSETFROM:-0800
TZOFFSETTO:-0700
TZNAME:PDT
DTSTART:20240310T100000
END:DAYLIGHT
BEGIN:STANDARD
TZOFFSETFROM:-0700
TZOFFSETTO:-0800
TZNAME:PST
DTSTART:20241103T090000
END:STANDARD
BEGIN:DAYLIGHT
TZOFFSETFROM:-0800
TZOFFSETTO:-0700
TZNAME:PDT
DTSTART:20250309T100000
END:DAYLIGHT
BEGIN:STANDARD
TZOFFSETFROM:-0700
TZOFFSETTO:-0800
TZNAME:PST
DTSTART:20251102T090000
END:STANDARD
BEGIN:DAYLIGHT
TZOFFSETFROM:-0800
TZOFFSETTO:-0700
TZNAME:PDT
DTSTART:20260308T100000
END:DAYLIGHT
BEGIN:STANDARD
TZOFFSETFROM:-0700
TZOFFSETTO:-0800
TZNAME:PST
DTSTART:20261101T090000
END:STANDARD
END:VTIMEZONE
BEGIN:VEVENT
DTSTART;TZID=America/Los_Angeles:20250601T160000
DTEND;TZID=America/Los_Angeles:20250601T173000
DTSTAMP:20260424T035654
CREATED:20250625T005016Z
LAST-MODIFIED:20250625T005030Z
UID:5802-1748793600-1748799000@www.pallavigunalan.com
SUMMARY:San Jose: Improv
DESCRIPTION:Clean show \nOpening for Sammy Obeid
URL:https://www.pallavigunalan.com/event/san-jose-improv/
LOCATION:San Jose Improv\, 62 S Second St\, San Jose\, CA\, 95113\, United States
END:VEVENT
BEGIN:VEVENT
DTSTART;TZID=America/Los_Angeles:20250601T183000
DTEND;TZID=America/Los_Angeles:20250601T200000
DTSTAMP:20260424T035654
CREATED:20250625T005104Z
LAST-MODIFIED:20250625T005104Z
UID:5806-1748802600-1748808000@www.pallavigunalan.com
SUMMARY:San Jose: Improv
DESCRIPTION:Opening for Sammy Obeid
URL:https://www.pallavigunalan.com/event/san-jose-improv-2/
LOCATION:San Jose Improv\, 62 S Second St\, San Jose\, CA\, 95113\, United States
END:VEVENT
BEGIN:VEVENT
DTSTART;TZID=America/Los_Angeles:20250603T193000
DTEND;TZID=America/Los_Angeles:20250603T210000
DTSTAMP:20260424T035654
CREATED:20250625T005236Z
LAST-MODIFIED:20250625T005236Z
UID:5808-1748979000-1748984400@www.pallavigunalan.com
SUMMARY:Tucson: Event Space
DESCRIPTION:
URL:https://www.pallavigunalan.com/event/tucson-event-space/
LOCATION:Tucson Events Space\, 2210 S 6th Ave\, Tucson\, AZ\, 85713\, United States
END:VEVENT
BEGIN:VEVENT
DTSTART;TZID=America/Los_Angeles:20250604T190000
DTEND;TZID=America/Los_Angeles:20250604T203000
DTSTAMP:20260424T035654
CREATED:20250625T005347Z
LAST-MODIFIED:20250625T005347Z
UID:5811-1749063600-1749069000@www.pallavigunalan.com
SUMMARY:Tempe: Improv
DESCRIPTION:Opening for Sammy Obeid.
URL:https://www.pallavigunalan.com/event/tempe-improv/
LOCATION:Tempe Improv\, 930 E University Dr\, Tempe\, AZ\, 85288\, United States
END:VEVENT
BEGIN:VEVENT
DTSTART;TZID=America/Los_Angeles:20250605T193000
DTEND;TZID=America/Los_Angeles:20250605T210000
DTSTAMP:20260424T035654
CREATED:20250603T072336Z
LAST-MODIFIED:20250603T072336Z
UID:5796-1749151800-1749157200@www.pallavigunalan.com
SUMMARY:LA: Opening for Jay Leno (Flappers)
DESCRIPTION:
URL:https://www.pallavigunalan.com/event/la-opening-for-jay-leno-flappers/
LOCATION:Flappers Comedy Club\, 102 E Magnolia Blvd\, Burbank\, CA\, 91502\, United States
END:VEVENT
BEGIN:VEVENT
DTSTART;TZID=America/Los_Angeles:20250613T200000
DTEND;TZID=America/Los_Angeles:20250613T213000
DTSTAMP:20260424T035654
CREATED:20250625T010253Z
LAST-MODIFIED:20250625T010253Z
UID:5824-1749844800-1749850200@www.pallavigunalan.com
SUMMARY:LA: Westside Comedy Theater
DESCRIPTION:
URL:https://www.pallavigunalan.com/event/la-westside-comedy-theater-24/
LOCATION:Westside Comedy\, 1323-A 3rd St\, Santa Monica\, CA\, 90401\, United States
END:VEVENT
BEGIN:VEVENT
DTSTART;TZID=America/Los_Angeles:20250614T220000
DTEND;TZID=America/Los_Angeles:20250614T233000
DTSTAMP:20260424T035654
CREATED:20250625T012809Z
LAST-MODIFIED:20250625T012809Z
UID:5845-1749938400-1749943800@www.pallavigunalan.com
SUMMARY:LA: The Glendale Room
DESCRIPTION:
URL:https://www.pallavigunalan.com/event/la-the-glendale-room-2/
LOCATION:The Glendale Room\, 127 Artsakh Ave\, Glendale\, CA\, 91206\, United States
END:VEVENT
BEGIN:VEVENT
DTSTART;TZID=America/Los_Angeles:20250616T193000
DTEND;TZID=America/Los_Angeles:20250616T210000
DTSTAMP:20260424T035654
CREATED:20250228T215346Z
LAST-MODIFIED:20250228T215346Z
UID:5700-1750102200-1750107600@www.pallavigunalan.com
SUMMARY:Sherman Oaks: The Oaks Tavern
DESCRIPTION:
URL:https://www.pallavigunalan.com/event/sherman-oaks-the-oaks-tavern/
LOCATION:The Oaks Tavern\, 13625 Moorpark St\, Sherman Oaks\, CA\, 91423\, United States
END:VEVENT
BEGIN:VEVENT
DTSTART;TZID=America/Los_Angeles:20250625T200000
DTEND;TZID=America/Los_Angeles:20250625T210000
DTSTAMP:20260424T035654
CREATED:20250626T080454Z
LAST-MODIFIED:20250626T080454Z
UID:5851-1750881600-1750885200@www.pallavigunalan.com
SUMMARY:LA: The Pack Theater (Improv)
DESCRIPTION:
URL:https://www.pallavigunalan.com/event/la-the-pack-theater-improv/
LOCATION:The Pack Theater\, 6470 Santa Monica Blvd\, Los Angeles\, CA\, 90038\, United States
END:VEVENT
BEGIN:VEVENT
DTSTART;TZID=America/Los_Angeles:20250626T173000
DTEND;TZID=America/Los_Angeles:20250626T193000
DTSTAMP:20260424T035654
CREATED:20250811T013048Z
LAST-MODIFIED:20250811T013048Z
UID:5882-1750959000-1750966200@www.pallavigunalan.com
SUMMARY:SF: Chase City Center (Pride Show)
DESCRIPTION:
URL:https://www.pallavigunalan.com/event/sf-chase-city-center-pride-show/
LOCATION:Chase City Center\, 2675 Geary Blvd\, San Francisco\, CA\, 94118\, United States
END:VEVENT
BEGIN:VEVENT
DTSTART;TZID=America/Los_Angeles:20250627T193000
DTEND;TZID=America/Los_Angeles:20250627T210000
DTSTAMP:20260424T035654
CREATED:20250625T005844Z
LAST-MODIFIED:20250625T005844Z
UID:5814-1751052600-1751058000@www.pallavigunalan.com
SUMMARY:San Jose: Improv
DESCRIPTION:Hosting for Bassem Youssef
URL:https://www.pallavigunalan.com/event/san-jose-improv-3/
LOCATION:San Jose Improv\, 62 S Second St\, San Jose\, CA\, 95113\, United States
END:VEVENT
BEGIN:VEVENT
DTSTART;TZID=America/Los_Angeles:20250628T190000
DTEND;TZID=America/Los_Angeles:20250628T203000
DTSTAMP:20260424T035654
CREATED:20250625T005947Z
LAST-MODIFIED:20250625T005947Z
UID:5818-1751137200-1751142600@www.pallavigunalan.com
SUMMARY:San Jose: Improv
DESCRIPTION:Hosting for Bassem Youssef
URL:https://www.pallavigunalan.com/event/san-jose-improv-5/
LOCATION:San Jose Improv\, 62 S Second St\, San Jose\, CA\, 95113\, United States
END:VEVENT
BEGIN:VEVENT
DTSTART;TZID=America/Los_Angeles:20250628T213000
DTEND;TZID=America/Los_Angeles:20250628T233000
DTSTAMP:20260424T035654
CREATED:20250625T010017Z
LAST-MODIFIED:20250625T010017Z
UID:5820-1751146200-1751153400@www.pallavigunalan.com
SUMMARY:San Jose: Improv
DESCRIPTION:Hosting for Bassem Youssef
URL:https://www.pallavigunalan.com/event/san-jose-improv-6/
LOCATION:San Jose Improv\, 62 S Second St\, San Jose\, CA\, 95113\, United States
END:VEVENT
END:VCALENDAR