BEGIN:VCALENDAR
VERSION:2.0
PRODID:-//PALLAVI GUNALAN - ECPv6.15.17//NONSGML v1.0//EN
CALSCALE:GREGORIAN
METHOD:PUBLISH
X-WR-CALNAME:PALLAVI GUNALAN
X-ORIGINAL-URL:https://www.pallavigunalan.com
X-WR-CALDESC:Events for PALLAVI GUNALAN
REFRESH-INTERVAL;VALUE=DURATION:PT1H
X-Robots-Tag:noindex
X-PUBLISHED-TTL:PT1H
BEGIN:VTIMEZONE
TZID:America/Los_Angeles
BEGIN:DAYLIGHT
TZOFFSETFROM:-0800
TZOFFSETTO:-0700
TZNAME:PDT
DTSTART:20240310T100000
END:DAYLIGHT
BEGIN:STANDARD
TZOFFSETFROM:-0700
TZOFFSETTO:-0800
TZNAME:PST
DTSTART:20241103T090000
END:STANDARD
BEGIN:DAYLIGHT
TZOFFSETFROM:-0800
TZOFFSETTO:-0700
TZNAME:PDT
DTSTART:20250309T100000
END:DAYLIGHT
BEGIN:STANDARD
TZOFFSETFROM:-0700
TZOFFSETTO:-0800
TZNAME:PST
DTSTART:20251102T090000
END:STANDARD
BEGIN:DAYLIGHT
TZOFFSETFROM:-0800
TZOFFSETTO:-0700
TZNAME:PDT
DTSTART:20260308T100000
END:DAYLIGHT
BEGIN:STANDARD
TZOFFSETFROM:-0700
TZOFFSETTO:-0800
TZNAME:PST
DTSTART:20261101T090000
END:STANDARD
END:VTIMEZONE
BEGIN:VEVENT
DTSTART;TZID=America/Los_Angeles:20250703T193000
DTEND;TZID=America/Los_Angeles:20250703T210000
DTSTAMP:20260424T023911
CREATED:20250625T010144Z
LAST-MODIFIED:20250625T010144Z
UID:5822-1751571000-1751576400@www.pallavigunalan.com
SUMMARY:LA: The Comedy Chateau
DESCRIPTION:
URL:https://www.pallavigunalan.com/event/la-the-comedy-chateau-52/
LOCATION:The Comedy Chateau\, 4615 Lankershim Blvd\, North Hollywood\, CA\, 91602\, United States
END:VEVENT
BEGIN:VEVENT
DTSTART;TZID=America/Los_Angeles:20250705T183000
DTEND;TZID=America/Los_Angeles:20250705T200000
DTSTAMP:20260424T023911
CREATED:20250625T011055Z
LAST-MODIFIED:20250625T011055Z
UID:5826-1751740200-1751745600@www.pallavigunalan.com
SUMMARY:LA: Pupusas & Punchlines
DESCRIPTION:
URL:https://www.pallavigunalan.com/event/la-pupusas-punchlines-2/
LOCATION:Jaragua\, 4493 Beverly Blvd\, Los Angeles\, CA\, 90004\, United States
END:VEVENT
BEGIN:VEVENT
DTSTART;TZID=America/Los_Angeles:20250705T210000
DTEND;TZID=America/Los_Angeles:20250705T223000
DTSTAMP:20260424T023911
CREATED:20250625T011121Z
LAST-MODIFIED:20250625T011121Z
UID:5828-1751749200-1751754600@www.pallavigunalan.com
SUMMARY:LA: Pupusas & Punchlines
DESCRIPTION:
URL:https://www.pallavigunalan.com/event/la-pupusas-punchlines-3/
LOCATION:Jaragua\, 4493 Beverly Blvd\, Los Angeles\, CA\, 90004\, United States
END:VEVENT
BEGIN:VEVENT
DTSTART;TZID=America/Los_Angeles:20250705T220000
DTEND;TZID=America/Los_Angeles:20250705T233000
DTSTAMP:20260424T023911
CREATED:20250811T013249Z
LAST-MODIFIED:20250811T013249Z
UID:5885-1751752800-1751758200@www.pallavigunalan.com
SUMMARY:LA: Westside Comedy Theater
DESCRIPTION:
URL:https://www.pallavigunalan.com/event/la-westside-comedy-theater-25/
LOCATION:CA
END:VEVENT
BEGIN:VEVENT
DTSTART;TZID=America/Los_Angeles:20250709T190000
DTEND;TZID=America/Los_Angeles:20250709T220000
DTSTAMP:20260424T023911
CREATED:20250626T080517Z
LAST-MODIFIED:20250811T013446Z
UID:5853-1752087600-1752098400@www.pallavigunalan.com
SUMMARY:LA: Opening for Open Mike Eagle
DESCRIPTION:
URL:https://www.pallavigunalan.com/event/la-the-pack-theater-improv-2/
LOCATION:The Echo\, 1822 W Sunset Blvd\, Los Angeles\, CA\, 90026
END:VEVENT
BEGIN:VEVENT
DTSTART;TZID=America/Los_Angeles:20250718T220000
DTEND;TZID=America/Los_Angeles:20250718T233000
DTSTAMP:20260424T023911
CREATED:20250625T013033Z
LAST-MODIFIED:20250625T013033Z
UID:5849-1752876000-1752881400@www.pallavigunalan.com
SUMMARY:LA: FRC @ The Comedy Store
DESCRIPTION:
URL:https://www.pallavigunalan.com/event/la-frc-the-comedy-store-5/
LOCATION:The Comedy Store\, 8433 Sunset Blvd\, Los Angeles\, CA\, 90069\, United States
END:VEVENT
BEGIN:VEVENT
DTSTART;TZID=America/Los_Angeles:20250718T225000
DTEND;TZID=America/Los_Angeles:20250719T000000
DTSTAMP:20260424T023911
CREATED:20250811T013633Z
LAST-MODIFIED:20250811T013633Z
UID:5889-1752879000-1752883200@www.pallavigunalan.com
SUMMARY:OC Improv Fest
DESCRIPTION:
URL:https://www.pallavigunalan.com/event/oc-improv-fest/
LOCATION:The Frida Cinema\, 305 E #4th Street\, Santa Ana\, CA\, 92701\, United States
END:VEVENT
BEGIN:VEVENT
DTSTART;TZID=America/Los_Angeles:20250719T200000
DTEND;TZID=America/Los_Angeles:20250719T213000
DTSTAMP:20260424T023911
CREATED:20250811T040039Z
LAST-MODIFIED:20250811T040050Z
UID:5907-1752955200-1752960600@www.pallavigunalan.com
SUMMARY:LA: The Nitecap
DESCRIPTION:
URL:https://www.pallavigunalan.com/event/la-the-nitecap-9/
LOCATION:The Nitecap\, 2200 W Burbank Blvd STE B\, Burbank\, CA\, 91506\, United States
END:VEVENT
BEGIN:VEVENT
DTSTART;TZID=America/Los_Angeles:20250720T190000
DTEND;TZID=America/Los_Angeles:20250720T203000
DTSTAMP:20260424T023911
CREATED:20250811T013725Z
LAST-MODIFIED:20250811T013725Z
UID:5891-1753038000-1753043400@www.pallavigunalan.com
SUMMARY:LA: Westside Comedy Theater
DESCRIPTION:
URL:https://www.pallavigunalan.com/event/la-westside-comedy-theater-26/
LOCATION:Westside Comedy\, 1323-A 3rd St\, Santa Monica\, CA\, 90401\, United States
END:VEVENT
BEGIN:VEVENT
DTSTART;TZID=America/Los_Angeles:20250723T200000
DTEND;TZID=America/Los_Angeles:20250723T210000
DTSTAMP:20260424T023912
CREATED:20250626T080700Z
LAST-MODIFIED:20250811T011727Z
UID:5855-1753300800-1753304400@www.pallavigunalan.com
SUMMARY:LA: The Pack Theater (Improv)
DESCRIPTION:
URL:https://www.pallavigunalan.com/event/la-the-pack-theater-improv-3/
LOCATION:The Pack Theater\, 6470 Santa Monica Blvd\, Los Angeles\, CA\, 90038\, United States
END:VEVENT
BEGIN:VEVENT
DTSTART;TZID=America/Los_Angeles:20250726T220000
DTEND;TZID=America/Los_Angeles:20250726T233000
DTSTAMP:20260424T023912
CREATED:20250811T040309Z
LAST-MODIFIED:20250811T040309Z
UID:5909-1753567200-1753572600@www.pallavigunalan.com
SUMMARY:LA: Westside Comedy Theater
DESCRIPTION:
URL:https://www.pallavigunalan.com/event/la-westside-comedy-theater-27/
LOCATION:Westside Comedy\, 1323-A 3rd St\, Santa Monica\, CA\, 90401\, United States
END:VEVENT
BEGIN:VEVENT
DTSTART;TZID=America/Los_Angeles:20250729T200000
DTEND;TZID=America/Los_Angeles:20250729T213000
DTSTAMP:20260424T023912
CREATED:20250625T011718Z
LAST-MODIFIED:20250625T011718Z
UID:5830-1753819200-1753824600@www.pallavigunalan.com
SUMMARY:LA: Roomies
DESCRIPTION:
URL:https://www.pallavigunalan.com/event/la-roomies/
LOCATION:The Elysian Theater\, 1944 Riverside Dr\, Los Angeles\, CA\, 90039\, United States
END:VEVENT
BEGIN:VEVENT
DTSTART;TZID=America/Los_Angeles:20250731T190000
DTEND;TZID=America/Los_Angeles:20250731T210000
DTSTAMP:20260424T023912
CREATED:20250811T014949Z
LAST-MODIFIED:20250811T014949Z
UID:5897-1753988400-1753995600@www.pallavigunalan.com
SUMMARY:Irvine Improv
DESCRIPTION:
URL:https://www.pallavigunalan.com/event/irvine-improv/
LOCATION:Irvine Improv Comedy Club\, 527 Spectrum Center Dr\, Irvine\, CA\, 92618\, United States
END:VEVENT
END:VCALENDAR