BEGIN:VCALENDAR
VERSION:2.0
PRODID:-//PALLAVI GUNALAN - ECPv6.15.17//NONSGML v1.0//EN
CALSCALE:GREGORIAN
METHOD:PUBLISH
X-ORIGINAL-URL:https://www.pallavigunalan.com
X-WR-CALDESC:Events for PALLAVI GUNALAN
REFRESH-INTERVAL;VALUE=DURATION:PT1H
X-Robots-Tag:noindex
X-PUBLISHED-TTL:PT1H
BEGIN:VTIMEZONE
TZID:America/Los_Angeles
BEGIN:DAYLIGHT
TZOFFSETFROM:-0800
TZOFFSETTO:-0700
TZNAME:PDT
DTSTART:20240310T100000
END:DAYLIGHT
BEGIN:STANDARD
TZOFFSETFROM:-0700
TZOFFSETTO:-0800
TZNAME:PST
DTSTART:20241103T090000
END:STANDARD
BEGIN:DAYLIGHT
TZOFFSETFROM:-0800
TZOFFSETTO:-0700
TZNAME:PDT
DTSTART:20250309T100000
END:DAYLIGHT
BEGIN:STANDARD
TZOFFSETFROM:-0700
TZOFFSETTO:-0800
TZNAME:PST
DTSTART:20251102T090000
END:STANDARD
BEGIN:DAYLIGHT
TZOFFSETFROM:-0800
TZOFFSETTO:-0700
TZNAME:PDT
DTSTART:20260308T100000
END:DAYLIGHT
BEGIN:STANDARD
TZOFFSETFROM:-0700
TZOFFSETTO:-0800
TZNAME:PST
DTSTART:20261101T090000
END:STANDARD
END:VTIMEZONE
BEGIN:VEVENT
DTSTART;TZID=America/Los_Angeles:20250918T200000
DTEND;TZID=America/Los_Angeles:20250918T213000
DTSTAMP:20260423T234745
CREATED:20250817T050038Z
LAST-MODIFIED:20250817T051416Z
UID:5936-1758225600-1758231000@www.pallavigunalan.com
SUMMARY:LA: Westside Comedy Theater
DESCRIPTION:
URL:https://www.pallavigunalan.com/event/la-westside-comedy-theater-28/
LOCATION:Westside Comedy\, 1323-A 3rd St\, Santa Monica\, CA\, 90401\, United States
END:VEVENT
BEGIN:VEVENT
DTSTART;TZID=America/Los_Angeles:20250920T173000
DTEND;TZID=America/Los_Angeles:20250920T190000
DTSTAMP:20260423T234745
CREATED:20250811T012629Z
LAST-MODIFIED:20250811T012853Z
UID:5880-1758389400-1758394800@www.pallavigunalan.com
SUMMARY:LA: Women in STEM
DESCRIPTION:
URL:https://www.pallavigunalan.com/event/la-women-in-stem-2/
LOCATION:The Lyric Hyperion\, 2106 Hyperion Avenue\, Los Angeles\, CA\, 90027\, United States
END:VEVENT
BEGIN:VEVENT
DTSTART;TZID=America/Los_Angeles:20250926T190000
DTEND;TZID=America/Los_Angeles:20250926T203000
DTSTAMP:20260423T234745
CREATED:20251018T014419Z
LAST-MODIFIED:20251018T014419Z
UID:5968-1758913200-1758918600@www.pallavigunalan.com
SUMMARY:LA: The Vivian Show
DESCRIPTION:
URL:https://www.pallavigunalan.com/event/la-the-vivian-show/
LOCATION:The Stray Theater\, 4319 Melrose Ave\, Los Angeles\, CA\, 90029\, United States
END:VEVENT
BEGIN:VEVENT
DTSTART;TZID=America/Los_Angeles:20250928T190000
DTEND;TZID=America/Los_Angeles:20250928T203000
DTSTAMP:20260423T234745
CREATED:20251018T014237Z
LAST-MODIFIED:20251018T014237Z
UID:5964-1759086000-1759091400@www.pallavigunalan.com
SUMMARY:LA: Bigfoot Lodge (West)
DESCRIPTION:
URL:https://www.pallavigunalan.com/event/la-bigfoot-lodge-west/
LOCATION:Bigfoot Lodge West\, 10939 Venice Blvd.\, Los Angeles\, CA\, 90034\, United States
END:VEVENT
END:VCALENDAR