BEGIN:VCALENDAR
VERSION:2.0
PRODID:-//PALLAVI GUNALAN - ECPv6.15.17//NONSGML v1.0//EN
CALSCALE:GREGORIAN
METHOD:PUBLISH
X-WR-CALNAME:PALLAVI GUNALAN
X-ORIGINAL-URL:https://www.pallavigunalan.com
X-WR-CALDESC:Events for PALLAVI GUNALAN
REFRESH-INTERVAL;VALUE=DURATION:PT1H
X-Robots-Tag:noindex
X-PUBLISHED-TTL:PT1H
BEGIN:VTIMEZONE
TZID:America/Los_Angeles
BEGIN:DAYLIGHT
TZOFFSETFROM:-0800
TZOFFSETTO:-0700
TZNAME:PDT
DTSTART:20240310T100000
END:DAYLIGHT
BEGIN:STANDARD
TZOFFSETFROM:-0700
TZOFFSETTO:-0800
TZNAME:PST
DTSTART:20241103T090000
END:STANDARD
BEGIN:DAYLIGHT
TZOFFSETFROM:-0800
TZOFFSETTO:-0700
TZNAME:PDT
DTSTART:20250309T100000
END:DAYLIGHT
BEGIN:STANDARD
TZOFFSETFROM:-0700
TZOFFSETTO:-0800
TZNAME:PST
DTSTART:20251102T090000
END:STANDARD
BEGIN:DAYLIGHT
TZOFFSETFROM:-0800
TZOFFSETTO:-0700
TZNAME:PDT
DTSTART:20260308T100000
END:DAYLIGHT
BEGIN:STANDARD
TZOFFSETFROM:-0700
TZOFFSETTO:-0800
TZNAME:PST
DTSTART:20261101T090000
END:STANDARD
END:VTIMEZONE
BEGIN:VEVENT
DTSTART;TZID=America/Los_Angeles:20251105T200000
DTEND;TZID=America/Los_Angeles:20251105T213000
DTSTAMP:20260423T193902
CREATED:20260308T093037Z
LAST-MODIFIED:20260308T093037Z
UID:6161-1762372800-1762378200@www.pallavigunalan.com
SUMMARY:LA: The Pack Theater (Improv)
DESCRIPTION:
URL:https://www.pallavigunalan.com/event/la-the-pack-theater-improv-10/
LOCATION:The Pack Theater\, 6470 Santa Monica Blvd\, Los Angeles\, CA\, 90038\, United States
END:VEVENT
BEGIN:VEVENT
DTSTART;TZID=America/Los_Angeles:20251108T180000
DTEND;TZID=America/Los_Angeles:20251108T213000
DTSTAMP:20260423T193902
CREATED:20260308T093200Z
LAST-MODIFIED:20260308T093200Z
UID:6163-1762624800-1762637400@www.pallavigunalan.com
SUMMARY:LA: JIVA Mental Health Gala
DESCRIPTION:
URL:https://www.pallavigunalan.com/event/la-jiva-mental-health-gala/
LOCATION:Above the Block\, 11301 W Olympic Blvd # 116\, Los Angeles\, CA\, 90064\, United States
END:VEVENT
BEGIN:VEVENT
DTSTART;TZID=America/Los_Angeles:20251114T193000
DTEND;TZID=America/Los_Angeles:20251114T210000
DTSTAMP:20260423T193902
CREATED:20260308T093320Z
LAST-MODIFIED:20260308T093320Z
UID:6166-1763148600-1763154000@www.pallavigunalan.com
SUMMARY:LA: Flappers Comedy Club
DESCRIPTION:
URL:https://www.pallavigunalan.com/event/la-flappers-comedy-club-5/
LOCATION:Flappers Comedy Club\, 102 E Magnolia Blvd\, Burbank\, CA\, 91502\, United States
END:VEVENT
BEGIN:VEVENT
DTSTART;TZID=America/Los_Angeles:20251119T200000
DTEND;TZID=America/Los_Angeles:20251119T213000
DTSTAMP:20260423T193902
CREATED:20260308T093450Z
LAST-MODIFIED:20260308T093450Z
UID:6168-1763582400-1763587800@www.pallavigunalan.com
SUMMARY:LA: The Pack Theater
DESCRIPTION:
URL:https://www.pallavigunalan.com/event/la-the-pack-theater/
LOCATION:The Pack Theater\, 6470 Santa Monica Blvd\, Los Angeles\, CA\, 90038\, United States
END:VEVENT
END:VCALENDAR