BEGIN:VCALENDAR
VERSION:2.0
PRODID:-//PALLAVI GUNALAN - ECPv6.15.17//NONSGML v1.0//EN
CALSCALE:GREGORIAN
METHOD:PUBLISH
X-WR-CALNAME:PALLAVI GUNALAN
X-ORIGINAL-URL:https://www.pallavigunalan.com
X-WR-CALDESC:Events for PALLAVI GUNALAN
REFRESH-INTERVAL;VALUE=DURATION:PT1H
X-Robots-Tag:noindex
X-PUBLISHED-TTL:PT1H
BEGIN:VTIMEZONE
TZID:America/Los_Angeles
BEGIN:DAYLIGHT
TZOFFSETFROM:-0800
TZOFFSETTO:-0700
TZNAME:PDT
DTSTART:20250309T100000
END:DAYLIGHT
BEGIN:STANDARD
TZOFFSETFROM:-0700
TZOFFSETTO:-0800
TZNAME:PST
DTSTART:20251102T090000
END:STANDARD
BEGIN:DAYLIGHT
TZOFFSETFROM:-0800
TZOFFSETTO:-0700
TZNAME:PDT
DTSTART:20260308T100000
END:DAYLIGHT
BEGIN:STANDARD
TZOFFSETFROM:-0700
TZOFFSETTO:-0800
TZNAME:PST
DTSTART:20261101T090000
END:STANDARD
BEGIN:DAYLIGHT
TZOFFSETFROM:-0800
TZOFFSETTO:-0700
TZNAME:PDT
DTSTART:20270314T100000
END:DAYLIGHT
BEGIN:STANDARD
TZOFFSETFROM:-0700
TZOFFSETTO:-0800
TZNAME:PST
DTSTART:20271107T090000
END:STANDARD
END:VTIMEZONE
BEGIN:VEVENT
DTSTART;TZID=America/Los_Angeles:20260106T200000
DTEND;TZID=America/Los_Angeles:20260106T213000
DTSTAMP:20260423T164530
CREATED:20260306T062432Z
LAST-MODIFIED:20260306T062432Z
UID:6037-1767729600-1767735000@www.pallavigunalan.com
SUMMARY:LA: 50 First Jokes
DESCRIPTION:
URL:https://www.pallavigunalan.com/event/la-50-first-jokes/
LOCATION:The Regent Theater\, 448 Main St\, Los Angeles\, CA\, 90013\, United States
END:VEVENT
BEGIN:VEVENT
DTSTART;TZID=America/Los_Angeles:20260107T200000
DTEND;TZID=America/Los_Angeles:20260107T213000
DTSTAMP:20260423T164530
CREATED:20260306T062524Z
LAST-MODIFIED:20260306T062524Z
UID:6040-1767816000-1767821400@www.pallavigunalan.com
SUMMARY:LA: The Pack Theater (Dimes)
DESCRIPTION:
URL:https://www.pallavigunalan.com/event/la-the-pack-theater-dimes/
LOCATION:The Pack Theater\, 6470 Santa Monica Blvd\, Los Angeles\, CA\, 90038\, United States
END:VEVENT
BEGIN:VEVENT
DTSTART;TZID=America/Los_Angeles:20260109T220000
DTEND;TZID=America/Los_Angeles:20260109T233000
DTSTAMP:20260423T164530
CREATED:20260306T062623Z
LAST-MODIFIED:20260306T062623Z
UID:6042-1767996000-1768001400@www.pallavigunalan.com
SUMMARY:LA: Asian AF (Improv)
DESCRIPTION:
URL:https://www.pallavigunalan.com/event/la-asian-af-improv-3/
LOCATION:UCB Franklin\, 5919 Franklin Ave\, Los Angeles\, CA\, 90028\, United States
END:VEVENT
BEGIN:VEVENT
DTSTART;TZID=America/Los_Angeles:20260110T160000
DTEND;TZID=America/Los_Angeles:20260110T173000
DTSTAMP:20260423T164530
CREATED:20260306T062711Z
LAST-MODIFIED:20260306T062711Z
UID:6044-1768060800-1768066200@www.pallavigunalan.com
SUMMARY:LA: DAF Studios (Opening for Sammy Obeid)
DESCRIPTION:
URL:https://www.pallavigunalan.com/event/la-daf-studios-opening-for-sammy-obeid/
LOCATION:DAF Studios\, 2234 West Temple Street\, Los Angeles\, CA\, 90026\, United States
END:VEVENT
BEGIN:VEVENT
DTSTART;TZID=America/Los_Angeles:20260110T183000
DTEND;TZID=America/Los_Angeles:20260110T200000
DTSTAMP:20260423T164530
CREATED:20260306T062755Z
LAST-MODIFIED:20260306T062755Z
UID:6046-1768069800-1768075200@www.pallavigunalan.com
SUMMARY:LA: DAF Studios (Opening for Sammy Obeid)
DESCRIPTION:
URL:https://www.pallavigunalan.com/event/la-daf-studios-opening-for-sammy-obeid-2/
LOCATION:DAF Studios\, 2234 West Temple Street\, Los Angeles\, CA\, 90026\, United States
END:VEVENT
BEGIN:VEVENT
DTSTART;TZID=America/Los_Angeles:20260114T200000
DTEND;TZID=America/Los_Angeles:20260114T213000
DTSTAMP:20260423T164530
CREATED:20251219T184541Z
LAST-MODIFIED:20251219T184541Z
UID:6015-1768420800-1768426200@www.pallavigunalan.com
SUMMARY:LA: Second Screens Comedy
DESCRIPTION:
URL:https://www.pallavigunalan.com/event/la-second-screens-comedy-2/
LOCATION:The Elysian Theater\, 1944 Riverside Dr\, Los Angeles\, CA\, 90039\, United States
END:VEVENT
BEGIN:VEVENT
DTSTART;TZID=America/Los_Angeles:20260115T213000
DTEND;TZID=America/Los_Angeles:20260116T223000
DTSTAMP:20260423T164530
CREATED:20260306T063308Z
LAST-MODIFIED:20260306T063308Z
UID:6051-1768512600-1768602600@www.pallavigunalan.com
SUMMARY:SF: Asian AF (SF Sketchfest)
DESCRIPTION:
URL:https://www.pallavigunalan.com/event/sf-asian-af-sf-sketchfest/
LOCATION:Great Star Theater\, 636 Jackson Street\, San Francisco\, CA\, 94133\, United States
END:VEVENT
BEGIN:VEVENT
DTSTART;TZID=America/Los_Angeles:20260116T193000
DTEND;TZID=America/Los_Angeles:20260116T210000
DTSTAMP:20260423T164530
CREATED:20260306T063028Z
LAST-MODIFIED:20260306T063212Z
UID:6048-1768591800-1768597200@www.pallavigunalan.com
SUMMARY:SF: Comedy Oakland
DESCRIPTION:
URL:https://www.pallavigunalan.com/event/sf-comedy-oakland/
LOCATION:The Lumpia Company\, 288 9th Ave\, Oakland\, CA\, 94606
END:VEVENT
BEGIN:VEVENT
DTSTART;TZID=America/Los_Angeles:20260117T140000
DTEND;TZID=America/Los_Angeles:20260117T153000
DTSTAMP:20260423T164530
CREATED:20251130T021155Z
LAST-MODIFIED:20251130T021155Z
UID:6003-1768658400-1768663800@www.pallavigunalan.com
SUMMARY:SF Sketchfest - Zindabaddies (Improv)
DESCRIPTION:
URL:https://www.pallavigunalan.com/event/sf-sketchfest-zindabaddies-improv/
LOCATION:Lost Church\, 988 Columbus Ave\, San Francisco\, CA\, 94133\, United States
END:VEVENT
BEGIN:VEVENT
DTSTART;TZID=America/Los_Angeles:20260117T190000
DTEND;TZID=America/Los_Angeles:20260117T203000
DTSTAMP:20260423T164530
CREATED:20251130T020817Z
LAST-MODIFIED:20251130T020817Z
UID:6000-1768676400-1768681800@www.pallavigunalan.com
SUMMARY:SF Sketchfest - Facial Recognition Comedy
DESCRIPTION:
URL:https://www.pallavigunalan.com/event/sf-sketchfest-facial-recognition-comedy-4/
LOCATION:BATS\, Landmark Building B\, San Francisco\, CA\, 94123\, United States
END:VEVENT
BEGIN:VEVENT
DTSTART;TZID=America/Los_Angeles:20260121T200000
DTEND;TZID=America/Los_Angeles:20260121T210000
DTSTAMP:20260423T164530
CREATED:20260306T063425Z
LAST-MODIFIED:20260306T063425Z
UID:6053-1769025600-1769029200@www.pallavigunalan.com
SUMMARY:LA: The Pack Theater (Improv)
DESCRIPTION:
URL:https://www.pallavigunalan.com/event/la-the-pack-theater-improv-6/
LOCATION:The Pack Theater\, 6470 Santa Monica Blvd\, Los Angeles\, CA\, 90038\, United States
END:VEVENT
BEGIN:VEVENT
DTSTART;TZID=America/Los_Angeles:20260123T193000
DTEND;TZID=America/Los_Angeles:20260123T213000
DTSTAMP:20260423T164530
CREATED:20260306T062116Z
LAST-MODIFIED:20260306T062116Z
UID:6031-1769196600-1769203800@www.pallavigunalan.com
SUMMARY:LA: Hollywood Improv Lab
DESCRIPTION:
URL:https://www.pallavigunalan.com/event/la-hollywood-improv-lab/
LOCATION:Hollywood Improv\, 8162 Melrose Ave\, Los Angeles\, CA\, 90046\, United States
END:VEVENT
BEGIN:VEVENT
DTSTART;TZID=America/Los_Angeles:20260123T220000
DTEND;TZID=America/Los_Angeles:20260123T233000
DTSTAMP:20260423T164530
CREATED:20251219T184819Z
LAST-MODIFIED:20251219T184819Z
UID:6017-1769205600-1769211000@www.pallavigunalan.com
SUMMARY:LA: FRC @ The Comedy Store
DESCRIPTION:
URL:https://www.pallavigunalan.com/event/la-frc-the-comedy-store-8/
LOCATION:The Comedy Store\, 8433 Sunset Blvd\, Los Angeles\, CA\, 90069\, United States
ORGANIZER;CN="Facial Recognition Comedy":MAILTO:facialrecognitioncomedy@gmail.com
END:VEVENT
BEGIN:VEVENT
DTSTART;TZID=America/Los_Angeles:20260124T220000
DTEND;TZID=America/Los_Angeles:20260124T233000
DTSTAMP:20260423T164530
CREATED:20260306T063520Z
LAST-MODIFIED:20260306T063520Z
UID:6055-1769292000-1769297400@www.pallavigunalan.com
SUMMARY:LA: Westside Comedy Theater
DESCRIPTION:
URL:https://www.pallavigunalan.com/event/la-westside-comedy-theater-29/
LOCATION:Westside Comedy\, 1323-A 3rd St\, Santa Monica\, CA\, 90401\, United States
END:VEVENT
BEGIN:VEVENT
DTSTART;TZID=America/Los_Angeles:20260131T183000
DTEND;TZID=America/Los_Angeles:20260131T200000
DTSTAMP:20260423T164530
CREATED:20260306T063605Z
LAST-MODIFIED:20260306T063605Z
UID:6057-1769884200-1769889600@www.pallavigunalan.com
SUMMARY:LA: Pupusas & Punchlines
DESCRIPTION:
URL:https://www.pallavigunalan.com/event/la-pupusas-punchlines-8/
LOCATION:Jaragua\, 4493 Beverly Blvd\, Los Angeles\, CA\, 90004\, United States
END:VEVENT
END:VCALENDAR