BEGIN:VCALENDAR
VERSION:2.0
PRODID:-//PALLAVI GUNALAN - ECPv6.15.17//NONSGML v1.0//EN
CALSCALE:GREGORIAN
METHOD:PUBLISH
X-ORIGINAL-URL:https://www.pallavigunalan.com
X-WR-CALDESC:Events for PALLAVI GUNALAN
REFRESH-INTERVAL;VALUE=DURATION:PT1H
X-Robots-Tag:noindex
X-PUBLISHED-TTL:PT1H
BEGIN:VTIMEZONE
TZID:America/Los_Angeles
BEGIN:DAYLIGHT
TZOFFSETFROM:-0800
TZOFFSETTO:-0700
TZNAME:PDT
DTSTART:20250309T100000
END:DAYLIGHT
BEGIN:STANDARD
TZOFFSETFROM:-0700
TZOFFSETTO:-0800
TZNAME:PST
DTSTART:20251102T090000
END:STANDARD
BEGIN:DAYLIGHT
TZOFFSETFROM:-0800
TZOFFSETTO:-0700
TZNAME:PDT
DTSTART:20260308T100000
END:DAYLIGHT
BEGIN:STANDARD
TZOFFSETFROM:-0700
TZOFFSETTO:-0800
TZNAME:PST
DTSTART:20261101T090000
END:STANDARD
BEGIN:DAYLIGHT
TZOFFSETFROM:-0800
TZOFFSETTO:-0700
TZNAME:PDT
DTSTART:20270314T100000
END:DAYLIGHT
BEGIN:STANDARD
TZOFFSETFROM:-0700
TZOFFSETTO:-0800
TZNAME:PST
DTSTART:20271107T090000
END:STANDARD
END:VTIMEZONE
BEGIN:VTIMEZONE
TZID:America/Phoenix
BEGIN:STANDARD
TZOFFSETFROM:-0700
TZOFFSETTO:-0700
TZNAME:MST
DTSTART:20250101T000000
END:STANDARD
END:VTIMEZONE
BEGIN:VTIMEZONE
TZID:America/Chicago
BEGIN:DAYLIGHT
TZOFFSETFROM:-0600
TZOFFSETTO:-0500
TZNAME:CDT
DTSTART:20250309T080000
END:DAYLIGHT
BEGIN:STANDARD
TZOFFSETFROM:-0500
TZOFFSETTO:-0600
TZNAME:CST
DTSTART:20251102T070000
END:STANDARD
BEGIN:DAYLIGHT
TZOFFSETFROM:-0600
TZOFFSETTO:-0500
TZNAME:CDT
DTSTART:20260308T080000
END:DAYLIGHT
BEGIN:STANDARD
TZOFFSETFROM:-0500
TZOFFSETTO:-0600
TZNAME:CST
DTSTART:20261101T070000
END:STANDARD
BEGIN:DAYLIGHT
TZOFFSETFROM:-0600
TZOFFSETTO:-0500
TZNAME:CDT
DTSTART:20270314T080000
END:DAYLIGHT
BEGIN:STANDARD
TZOFFSETFROM:-0500
TZOFFSETTO:-0600
TZNAME:CST
DTSTART:20271107T070000
END:STANDARD
END:VTIMEZONE
BEGIN:VEVENT
DTSTART;TZID=America/Los_Angeles:20260228T200000
DTEND;TZID=America/Los_Angeles:20260228T213000
DTSTAMP:20260423T134437
CREATED:20260306T061640Z
LAST-MODIFIED:20260306T062218Z
UID:6023-1772308800-1772314200@www.pallavigunalan.com
SUMMARY:LA: Second Screens @ The Elysian
DESCRIPTION:
URL:https://www.pallavigunalan.com/event/second-screens-the-elysian/
LOCATION:The Elysian Theater\, 1944 Riverside Dr\, Los Angeles\, CA\, 90039\, United States
END:VEVENT
BEGIN:VEVENT
DTSTART;TZID=America/Los_Angeles:20260301T190000
DTEND;TZID=America/Los_Angeles:20260301T203000
DTSTAMP:20260423T134437
CREATED:20260306T065453Z
LAST-MODIFIED:20260306T065453Z
UID:6085-1772391600-1772397000@www.pallavigunalan.com
SUMMARY:LA: The Comedy Chateau
DESCRIPTION:
URL:https://www.pallavigunalan.com/event/la-the-comedy-chateau-55/
LOCATION:The Comedy Chateau\, 4615 Lankershim Blvd\, North Hollywood\, CA\, 91602\, United States
END:VEVENT
BEGIN:VEVENT
DTSTART;TZID=America/Los_Angeles:20260307T220000
DTEND;TZID=America/Los_Angeles:20260307T233000
DTSTAMP:20260423T134437
CREATED:20260306T065554Z
LAST-MODIFIED:20260306T065554Z
UID:6087-1772920800-1772926200@www.pallavigunalan.com
SUMMARY:LA: Westside Comedy Theater
DESCRIPTION:
URL:https://www.pallavigunalan.com/event/la-westside-comedy-theater-30/
LOCATION:Westside Comedy\, 1323-A 3rd St\, Santa Monica\, CA\, 90401\, United States
END:VEVENT
BEGIN:VEVENT
DTSTART;TZID=America/Los_Angeles:20260309T191500
DTEND;TZID=America/Los_Angeles:20260309T213000
DTSTAMP:20260423T134437
CREATED:20260306T061856Z
LAST-MODIFIED:20260306T062208Z
UID:6027-1773083700-1773091800@www.pallavigunalan.com
SUMMARY:LA: Mermaid Comedy Hour x FRC @ The Hollywood Improv
DESCRIPTION:
URL:https://www.pallavigunalan.com/event/mermaid-comedy-hour-x-frc-the-hollywood-improv/
LOCATION:Hollywood Improv\, 8162 Melrose Ave\, Los Angeles\, CA\, 90046\, United States
END:VEVENT
BEGIN:VEVENT
DTSTART;TZID=America/Los_Angeles:20260311T200000
DTEND;TZID=America/Los_Angeles:20260311T213000
DTSTAMP:20260423T134437
CREATED:20260308T085222Z
LAST-MODIFIED:20260308T085222Z
UID:6151-1773259200-1773264600@www.pallavigunalan.com
SUMMARY:LA: The Comedy Store
DESCRIPTION:
URL:https://www.pallavigunalan.com/event/la-the-comedy-store/
LOCATION:The Comedy Store\, 8433 Sunset Blvd\, Los Angeles\, CA\, 90069\, United States
END:VEVENT
BEGIN:VEVENT
DTSTART;TZID=America/Los_Angeles:20260320T200000
DTEND;TZID=America/Los_Angeles:20260320T213000
DTSTAMP:20260423T134437
CREATED:20260306T061728Z
LAST-MODIFIED:20260306T062155Z
UID:6025-1774036800-1774042200@www.pallavigunalan.com
SUMMARY:LA: Second Screens @ The Elysian
DESCRIPTION:
URL:https://www.pallavigunalan.com/event/second-screens-the-elysian-2/
LOCATION:The Elysian Theater\, 1944 Riverside Dr\, Los Angeles\, CA\, 90039\, United States
END:VEVENT
BEGIN:VEVENT
DTSTART;TZID=America/Los_Angeles:20260320T220000
DTEND;TZID=America/Los_Angeles:20260320T233000
DTSTAMP:20260423T134437
CREATED:20260306T062009Z
LAST-MODIFIED:20260306T062144Z
UID:6029-1774044000-1774049400@www.pallavigunalan.com
SUMMARY:LA: FRC @ The Comedy Store
DESCRIPTION:
URL:https://www.pallavigunalan.com/event/frc-the-comedy-store/
LOCATION:The Comedy Store\, 8433 Sunset Blvd\, Los Angeles\, CA\, 90069\, United States
ORGANIZER;CN="Facial Recognition Comedy":MAILTO:facialrecognitioncomedy@gmail.com
END:VEVENT
BEGIN:VEVENT
DTSTART;TZID=America/Los_Angeles:20260322T190000
DTEND;TZID=America/Los_Angeles:20260322T203000
DTSTAMP:20260423T134437
CREATED:20260307T120826Z
LAST-MODIFIED:20260307T120826Z
UID:6115-1774206000-1774211400@www.pallavigunalan.com
SUMMARY:LA: Improvised Best Picture
DESCRIPTION:
URL:https://www.pallavigunalan.com/event/la-improvised-best-picture/
LOCATION:UCB Franklin\, 5919 Franklin Ave\, Los Angeles\, CA\, 90028\, United States
END:VEVENT
BEGIN:VEVENT
DTSTART;TZID=America/Los_Angeles:20260325T200000
DTEND;TZID=America/Los_Angeles:20260325T213000
DTSTAMP:20260423T134437
CREATED:20260307T122838Z
LAST-MODIFIED:20260307T122905Z
UID:6132-1774468800-1774474200@www.pallavigunalan.com
SUMMARY:LA: Funky & Natural
DESCRIPTION:
URL:https://www.pallavigunalan.com/event/la-funky-natural/
LOCATION:Bar Covell\, 4628 Hollywood Blvd\, Los Angeles\, CA\, 90027\, United States
END:VEVENT
BEGIN:VEVENT
DTSTART;TZID=America/Los_Angeles:20260326T190000
DTEND;TZID=America/Los_Angeles:20260326T203000
DTSTAMP:20260423T134437
CREATED:20260307T121914Z
LAST-MODIFIED:20260307T121914Z
UID:6122-1774551600-1774557000@www.pallavigunalan.com
SUMMARY:San Diego: Mic Drop Comedy
DESCRIPTION:
URL:https://www.pallavigunalan.com/event/san-diego-mic-drop-comedy-3/
LOCATION:Mic Drop Comedy\, 8878 Clairemont Mesa Blvd\, San Diego\, CA\, 92123\, United States
END:VEVENT
BEGIN:VEVENT
DTSTART;TZID=America/Phoenix:20260327T190000
DTEND;TZID=America/Phoenix:20260327T203000
DTSTAMP:20260423T134437
CREATED:20260307T122134Z
LAST-MODIFIED:20260307T122552Z
UID:6124-1774638000-1774643400@www.pallavigunalan.com
SUMMARY:AZ: Mic Drop Mania (Chandler)
DESCRIPTION:
URL:https://www.pallavigunalan.com/event/az-mic-drop-mania-chandler/
LOCATION:Mic Drop Mania\, 51 E Boston St\, Chandler\, AZ\, 85225\, United States
END:VEVENT
BEGIN:VEVENT
DTSTART;TZID=America/Phoenix:20260327T213000
DTEND;TZID=America/Phoenix:20260327T230000
DTSTAMP:20260423T134437
CREATED:20260307T122239Z
LAST-MODIFIED:20260307T122611Z
UID:6126-1774647000-1774652400@www.pallavigunalan.com
SUMMARY:AZ: Mic Drop Mania (Chandler)
DESCRIPTION:
URL:https://www.pallavigunalan.com/event/az-mic-drop-mania-chandler-2/
LOCATION:Mic Drop Mania\, 51 E Boston St\, Chandler\, AZ\, 85225\, United States
END:VEVENT
BEGIN:VEVENT
DTSTART;TZID=America/Phoenix:20260328T190000
DTEND;TZID=America/Phoenix:20260328T203000
DTSTAMP:20260423T134437
CREATED:20260307T122436Z
LAST-MODIFIED:20260307T122436Z
UID:6128-1774724400-1774729800@www.pallavigunalan.com
SUMMARY:AZ: Mic Drop Mania (Chandler)
DESCRIPTION:
URL:https://www.pallavigunalan.com/event/az-mic-drop-mania-chandler-3/
LOCATION:Mic Drop Mania\, 51 E Boston St\, Chandler\, AZ\, 85225\, United States
END:VEVENT
BEGIN:VEVENT
DTSTART;TZID=America/Phoenix:20260328T210000
DTEND;TZID=America/Phoenix:20260328T223000
DTSTAMP:20260423T134437
CREATED:20260307T122523Z
LAST-MODIFIED:20260307T122523Z
UID:6130-1774731600-1774737000@www.pallavigunalan.com
SUMMARY:AZ: Mic Drop Mania (Chandler)
DESCRIPTION:
URL:https://www.pallavigunalan.com/event/az-mic-drop-mania-chandler-4/
LOCATION:Mic Drop Mania\, 51 E Boston St\, Chandler\, AZ\, 85225\, United States
END:VEVENT
BEGIN:VEVENT
DTSTART;TZID=America/Chicago:20260329T180000
DTEND;TZID=America/Chicago:20260329T193000
DTSTAMP:20260423T134437
CREATED:20260307T123346Z
LAST-MODIFIED:20260307T123645Z
UID:6135-1774807200-1774812600@www.pallavigunalan.com
SUMMARY:TX: Mic Drop Comedy (Plano)
DESCRIPTION:
URL:https://www.pallavigunalan.com/event/tx-mic-drop-comedy-plano/
LOCATION:Mic Drop Comedy (Plano)\, 7301 Lone Star Dr Suite A-110\, Plano\, TX\, 75024\, United States
END:VEVENT
BEGIN:VEVENT
DTSTART;TZID=America/Chicago:20260330T193000
DTEND;TZID=America/Chicago:20260330T210000
DTSTAMP:20260423T134437
CREATED:20260307T123529Z
LAST-MODIFIED:20260307T123529Z
UID:6138-1774899000-1774904400@www.pallavigunalan.com
SUMMARY:TX: Cap City Comedy Club (Austin)
DESCRIPTION:
URL:https://www.pallavigunalan.com/event/tx-cap-city-comedy-club-austin/
LOCATION:Cap City Comedy Club (Austin)\, 11506 Century Oaks Terrace\, Bldg B Unit 100\, Austin\, TX\, 78758\, United States
END:VEVENT
END:VCALENDAR